BEGIN:VCALENDAR
VERSION:2.0
PRODID:-//Shiloh Missionary Baptist Church - ECPv6.15.14//NONSGML v1.0//EN
CALSCALE:GREGORIAN
METHOD:PUBLISH
X-ORIGINAL-URL:https://www.shilohmbc.net
X-WR-CALDESC:Events for Shiloh Missionary Baptist Church
REFRESH-INTERVAL;VALUE=DURATION:PT1H
X-Robots-Tag:noindex
X-PUBLISHED-TTL:PT1H
BEGIN:VTIMEZONE
TZID:UTC
BEGIN:STANDARD
TZOFFSETFROM:+0000
TZOFFSETTO:+0000
TZNAME:UTC
DTSTART:20220101T000000
END:STANDARD
END:VTIMEZONE
BEGIN:VEVENT
DTSTART;TZID=UTC:20230830T183000
DTEND;TZID=UTC:20230830T200000
DTSTAMP:20260426T030954
CREATED:20230810T210929Z
LAST-MODIFIED:20230810T210929Z
UID:15279-1693420200-1693425600@www.shilohmbc.net
SUMMARY:Praise & Testimonial Worship Service
DESCRIPTION:PRAISE & TESTIMONIAL WORSHIP SERVICE \nJoin us Wednesday\, August 30 @ 6:30pm for a Praise and Testimonial Worship Service. \n“Jesus said unto him\, If thou canst believe\, all things are possible to him that believeth.” Mark 9:23 (KJV) \nCome out and share how God has blessed you through miracles\, which are supernatural blessings performed in your life. \nLet’s celebrate the goodness of God together!! \nAll are invited to attend. \nPastor Steve Daniels\, Jr.
URL:https://www.shilohmbc.net/event/praise-testimonial-worship-service/
LOCATION:Shiloh MBC\, 501 West Lawson Avenue\, St. Paul\, MN\, 55117\, United States
CATEGORIES:General Church Information
END:VEVENT
END:VCALENDAR