BEGIN:VCALENDAR
VERSION:2.0
PRODID:-//Shiloh Missionary Baptist Church - ECPv6.15.14//NONSGML v1.0//EN
CALSCALE:GREGORIAN
METHOD:PUBLISH
X-WR-CALNAME:Shiloh Missionary Baptist Church
X-ORIGINAL-URL:https://www.shilohmbc.net
X-WR-CALDESC:Events for Shiloh Missionary Baptist Church
REFRESH-INTERVAL;VALUE=DURATION:PT1H
X-Robots-Tag:noindex
X-PUBLISHED-TTL:PT1H
BEGIN:VTIMEZONE
TZID:UTC
BEGIN:STANDARD
TZOFFSETFROM:+0000
TZOFFSETTO:+0000
TZNAME:UTC
DTSTART:20220101T000000
END:STANDARD
END:VTIMEZONE
BEGIN:VEVENT
DTSTART;VALUE=DATE:20231001
DTEND;VALUE=DATE:20231002
DTSTAMP:20260426T030823
CREATED:20230626T193103Z
LAST-MODIFIED:20230923T183948Z
UID:15151-1696118400-1696204799@www.shilohmbc.net
SUMMARY:YAM Spirit Month Sundays
DESCRIPTION:YAM SPIRIT MONTH \nEvery Sunday in October \nSunday\, October 1 – Sports Sunday (represent your favorite Sports team) \nSunday\, October 8 – Throwback YAM Gear (wear your vintage YAM tee/sweater) \nSunday\, October 15 – Represent Your Clique (College\, Greek Affiliation\, family\, etc.) \nSunday\, October 22 – Go Pink! Sunday (wear pink in honor of Breast Cancer Awareness Month) \nSunday\, October 29 – Look & Live! (YAM Explosion ’23 culmination Sunday) \nTees and sweaters go on sale Sunday\, September 24 and Sunday\, October 1 ONLY!\nPlease be prepared to spend those coins!\n\nThe Young Adult Ministry invites the entire congregation to participate!\n\nThank you\,\nShiloh Young Adult Ministry
URL:https://www.shilohmbc.net/event/yam-spirit-month/
LOCATION:Shiloh MBC\, 501 West Lawson Avenue\, St. Paul\, MN\, 55117\, United States
CATEGORIES:YAM
END:VEVENT
BEGIN:VEVENT
DTSTART;VALUE=DATE:20231001
DTEND;VALUE=DATE:20231002
DTSTAMP:20260426T030823
CREATED:20230916T204810Z
LAST-MODIFIED:20230924T203740Z
UID:15341-1696118400-1696204799@www.shilohmbc.net
SUMMARY:YAM Explosion T-Shirt Sign-Up
DESCRIPTION:YAM EXPLOSION T-SHIRT SIGN-UP \nYoung Adult Explosion 2023!\nOctober 28 – 29\, 2023 \nGet ready for the YAM Explosion and order your T-Shirts and Sweatshirts TODAY!\nOrders will be taken Sunday\, September 24 and Sunday\, October 1 ONLY! \nPrices: Tees- $15\,  Sweatshirts- $25 \n(You can pay by cash\, check or Easytithe App – select “Other” category) \nAdults and Youth sizes in both T-Shirts and Sweatshirts. \nQuestions: See Sis. Delphanie Daniels
URL:https://www.shilohmbc.net/event/yam-explosion-2023-t-shirt-sign-up-2/
LOCATION:Shiloh MBC\, 501 West Lawson Avenue\, St. Paul\, MN\, 55117\, United States
CATEGORIES:YAM
END:VEVENT
END:VCALENDAR