BEGIN:VCALENDAR
VERSION:2.0
PRODID:-//Shiloh Missionary Baptist Church - ECPv6.15.14//NONSGML v1.0//EN
CALSCALE:GREGORIAN
METHOD:PUBLISH
X-WR-CALNAME:Shiloh Missionary Baptist Church
X-ORIGINAL-URL:https://www.shilohmbc.net
X-WR-CALDESC:Events for Shiloh Missionary Baptist Church
REFRESH-INTERVAL;VALUE=DURATION:PT1H
X-Robots-Tag:noindex
X-PUBLISHED-TTL:PT1H
BEGIN:VTIMEZONE
TZID:UTC
BEGIN:STANDARD
TZOFFSETFROM:+0000
TZOFFSETTO:+0000
TZNAME:UTC
DTSTART:20220101T000000
END:STANDARD
END:VTIMEZONE
BEGIN:VEVENT
DTSTART;TZID=UTC:20231011T120000
DTEND;TZID=UTC:20231011T140000
DTSTAMP:20260426T030838
CREATED:20231011T150317Z
LAST-MODIFIED:20231011T150317Z
UID:15382-1697025600-1697032800@www.shilohmbc.net
SUMMARY:YAM Choir Rehearsals
DESCRIPTION:YAM CHOIR REHEARSALS \nSaturday\, October 21 @ 12:00 Noon \nSaturday\, October 28 immediately following YAM Conference. \nWe invite ALL Shiloh Young Adults to be a part of the YAM Choir and Explosion Weekend
URL:https://www.shilohmbc.net/event/yam-choir-rehearsals/
LOCATION:Shiloh MBC\, 501 West Lawson Avenue\, St. Paul\, MN\, 55117\, United States
CATEGORIES:YAM
END:VEVENT
END:VCALENDAR