BEGIN:VCALENDAR
VERSION:2.0
PRODID:-//Shiloh Missionary Baptist Church - ECPv6.15.14//NONSGML v1.0//EN
CALSCALE:GREGORIAN
METHOD:PUBLISH
X-ORIGINAL-URL:https://www.shilohmbc.net
X-WR-CALDESC:Events for Shiloh Missionary Baptist Church
REFRESH-INTERVAL;VALUE=DURATION:PT1H
X-Robots-Tag:noindex
X-PUBLISHED-TTL:PT1H
BEGIN:VTIMEZONE
TZID:UTC
BEGIN:STANDARD
TZOFFSETFROM:+0000
TZOFFSETTO:+0000
TZNAME:UTC
DTSTART:20220101T000000
END:STANDARD
END:VTIMEZONE
BEGIN:VEVENT
DTSTART;VALUE=DATE:20231025
DTEND;VALUE=DATE:20231026
DTSTAMP:20260426T031001
CREATED:20231024T161156Z
LAST-MODIFIED:20231024T161156Z
UID:15406-1698192000-1698278399@www.shilohmbc.net
SUMMARY:Bible Study CANCELLED TODAY
DESCRIPTION:BIBLE STUDY CANCELLED \nBoth 12 Noon and 6 PM Bible Study is CANCELLED TODAY. \nGod Bless\, \nPastor Daniels
URL:https://www.shilohmbc.net/event/bible-study-cancelled-today-2/
LOCATION:Shiloh MBC\, 501 West Lawson Avenue\, St. Paul\, MN\, 55117\, United States
CATEGORIES:Bible Study
END:VEVENT
BEGIN:VEVENT
DTSTART;TZID=UTC:20231025T190000
DTEND;TZID=UTC:20231025T210000
DTSTAMP:20260426T031001
CREATED:20231004T203134Z
LAST-MODIFIED:20231005T184250Z
UID:15375-1698260400-1698267600@www.shilohmbc.net
SUMMARY:Pastor Daniels' Preaching Engagement
DESCRIPTION:PASTOR DANIELS’ PREACHING ENGAGEMENT \nPastor Daniels will be preaching at Greater Mt. Vernon Missionary Baptist Church on \nWednesday\, October 25\, at 7:00 PM for their 60th Church Anniversary Celebration. \nGreater Mt. Vernon is located at 1800 DuPont Avenue North\, Minneapolis\, MN 55411 \nPlease come out and support our Pastor and join in the anniversary celebration!
URL:https://www.shilohmbc.net/event/pastor-daniels-preaching-engagement/
LOCATION:Greater Mt. Vernon Missionary Baptist Church\, 1800 DuPont Avenue N.\, Minneapolis\, MN\, 55411\, United States
CATEGORIES:General Church Information
END:VEVENT
END:VCALENDAR