BEGIN:VCALENDAR
VERSION:2.0
PRODID:-//Shiloh Missionary Baptist Church - ECPv6.15.14//NONSGML v1.0//EN
CALSCALE:GREGORIAN
METHOD:PUBLISH
X-ORIGINAL-URL:https://www.shilohmbc.net
X-WR-CALDESC:Events for Shiloh Missionary Baptist Church
REFRESH-INTERVAL;VALUE=DURATION:PT1H
X-Robots-Tag:noindex
X-PUBLISHED-TTL:PT1H
BEGIN:VTIMEZONE
TZID:UTC
BEGIN:STANDARD
TZOFFSETFROM:+0000
TZOFFSETTO:+0000
TZNAME:UTC
DTSTART:20220101T000000
END:STANDARD
END:VTIMEZONE
BEGIN:VEVENT
DTSTART;VALUE=DATE:20231122
DTEND;VALUE=DATE:20231125
DTSTAMP:20260426T031022
CREATED:20230626T212952Z
LAST-MODIFIED:20230626T212952Z
UID:15183-1700611200-1700870399@www.shilohmbc.net
SUMMARY:Church Office Closed - Thanksgiving Holiday
DESCRIPTION:CHURCH OFFICE CLOSED – THANKSGIVING HOLIDAY \nThe Shiloh Church Office will be CLOSED\nWednesday – Friday\, November 22 – 24\, 2023 in observance of the Thanksgiving Holiday. \nGive thanks to God for His many blessings!
URL:https://www.shilohmbc.net/event/church-office-closed-thanksgiving-holiday-2/
LOCATION:MN
CATEGORIES:General Church Information
END:VEVENT
BEGIN:VEVENT
DTSTART;VALUE=DATE:20231123
DTEND;VALUE=DATE:20231124
DTSTAMP:20260426T031022
CREATED:20230626T213635Z
LAST-MODIFIED:20230626T213635Z
UID:15185-1700697600-1700783999@www.shilohmbc.net
SUMMARY:Thanksgiving Holiday
DESCRIPTION:THANKSGIVING HOLIDAY \nThursday\, November 23\, 2023 \nLet us give thanks to the Lord for all He has done and for how He continues to work in our lives.\nThanks be to God!
URL:https://www.shilohmbc.net/event/thanksgiving-holiday-4/
LOCATION:MN
CATEGORIES:General Church Information
END:VEVENT
END:VCALENDAR