BEGIN:VCALENDAR
VERSION:2.0
PRODID:-//Shiloh Missionary Baptist Church - ECPv6.15.14//NONSGML v1.0//EN
CALSCALE:GREGORIAN
METHOD:PUBLISH
X-ORIGINAL-URL:https://www.shilohmbc.net
X-WR-CALDESC:Events for Shiloh Missionary Baptist Church
REFRESH-INTERVAL;VALUE=DURATION:PT1H
X-Robots-Tag:noindex
X-PUBLISHED-TTL:PT1H
BEGIN:VTIMEZONE
TZID:UTC
BEGIN:STANDARD
TZOFFSETFROM:+0000
TZOFFSETTO:+0000
TZNAME:UTC
DTSTART:20230101T000000
END:STANDARD
END:VTIMEZONE
BEGIN:VEVENT
DTSTART;VALUE=DATE:20240103
DTEND;VALUE=DATE:20240104
DTSTAMP:20260425T151223
CREATED:20231228T204749Z
LAST-MODIFIED:20231228T204749Z
UID:15511-1704240000-1704326399@www.shilohmbc.net
SUMMARY:Bible Study Cancelled
DESCRIPTION:BIBLE STUDY CANCELLED \n12 Noon and 6 PM Bible Study will be CANCELLED on Wednesday\, December 20\, 27\, and January 3\, 2024  in observance of the Christmas and New Year’s Holidays. \nBible Study will return on Wednesday\, January 10\, 2024. \nEnjoy the Holiday Season!
URL:https://www.shilohmbc.net/event/bible-study-cancelled-8/
LOCATION:Shiloh MBC\, 501 West Lawson Avenue\, St. Paul\, MN\, 55117\, United States
CATEGORIES:Bible Study
END:VEVENT
END:VCALENDAR