BEGIN:VCALENDAR
VERSION:2.0
PRODID:-//Shiloh Missionary Baptist Church - ECPv6.15.14//NONSGML v1.0//EN
CALSCALE:GREGORIAN
METHOD:PUBLISH
X-ORIGINAL-URL:https://www.shilohmbc.net
X-WR-CALDESC:Events for Shiloh Missionary Baptist Church
REFRESH-INTERVAL;VALUE=DURATION:PT1H
X-Robots-Tag:noindex
X-PUBLISHED-TTL:PT1H
BEGIN:VTIMEZONE
TZID:UTC
BEGIN:STANDARD
TZOFFSETFROM:+0000
TZOFFSETTO:+0000
TZNAME:UTC
DTSTART:20230101T000000
END:STANDARD
END:VTIMEZONE
BEGIN:VEVENT
DTSTART;VALUE=DATE:20240302
DTEND;VALUE=DATE:20240331
DTSTAMP:20260425T120736
CREATED:20240108T154724Z
LAST-MODIFIED:20240226T145142Z
UID:15555-1709337600-1711843199@www.shilohmbc.net
SUMMARY:30-Day Prayer & Fast
DESCRIPTION:SHILOH’s ANNUAL 30-DAY PRAYER & FAST \nBEGINS:  Saturday\, March 2\, 2024 \nENDS:  Easter Sunday\, March 31\, 2024 \nSacrifice something you crave to eat and/or drink. \nAlong with your sacrificial FASTING\, read Philippians 4:6-10 daily and pray. \nGod Bless You\, Pastor Daniels
URL:https://www.shilohmbc.net/event/shiloh-30-day-prayer-fast/
LOCATION:Shiloh MBC\, 501 West Lawson Avenue\, St. Paul\, MN\, 55117\, United States
CATEGORIES:General Church Information
END:VEVENT
BEGIN:VEVENT
DTSTART;VALUE=DATE:20240305
DTEND;VALUE=DATE:20240306
DTSTAMP:20260425T120736
CREATED:20240301T203700Z
LAST-MODIFIED:20240301T203700Z
UID:15720-1709596800-1709683199@www.shilohmbc.net
SUMMARY:Minnesota Super Tuesday
DESCRIPTION:MINNESOTA SUPER TUESDAY \nMinnesota is among a cluster of states and territories holding presidential nominating contests in the multistate voting event of the 2024 primary campaign. \nPrimary Voting will be held:  Tuesday\, March 5\, 2024 \nFind information about where to vote at: pollfinder.sos.mn.gov  \nGO VOTE and let your voice be heard!
URL:https://www.shilohmbc.net/event/minnesota-super-tuesday/
LOCATION:MN
CATEGORIES:General Church Information
END:VEVENT
END:VCALENDAR