BEGIN:VCALENDAR
VERSION:2.0
PRODID:-//Shiloh Missionary Baptist Church - ECPv6.15.14//NONSGML v1.0//EN
CALSCALE:GREGORIAN
METHOD:PUBLISH
X-WR-CALNAME:Shiloh Missionary Baptist Church
X-ORIGINAL-URL:https://www.shilohmbc.net
X-WR-CALDESC:Events for Shiloh Missionary Baptist Church
REFRESH-INTERVAL;VALUE=DURATION:PT1H
X-Robots-Tag:noindex
X-PUBLISHED-TTL:PT1H
BEGIN:VTIMEZONE
TZID:UTC
BEGIN:STANDARD
TZOFFSETFROM:+0000
TZOFFSETTO:+0000
TZNAME:UTC
DTSTART:20230101T000000
END:STANDARD
END:VTIMEZONE
BEGIN:VEVENT
DTSTART;TZID=UTC:20240404T140000
DTEND;TZID=UTC:20240404T160000
DTSTAMP:20260425T103152
CREATED:20240129T174855Z
LAST-MODIFIED:20240321T184047Z
UID:15605-1712239200-1712246400@www.shilohmbc.net
SUMMARY:Shiloh "Drive-Up" Food Pantry
DESCRIPTION:SHILOH “DRIVE-UP” FOOD PANTRY \nThe Bro. James “Pops” McCain Food Pantry is now open every other Thursday! \nTime:  2:00 pm – 4:00 pm \nLocation:  Shiloh’s Community Outreach Center\, 560 West Lawson Avenue\, St. Paul\, MN 55117 \nOur outreach staff is looking forward to serving you with open arms. \nEveryone is welcome! \nBe Blessed\, \nPastor Daniels
URL:https://www.shilohmbc.net/event/shiloh-drive-up-food-pantry-20/
LOCATION:Shiloh MBC\, 501 West Lawson Avenue\, St. Paul\, MN\, 55117\, United States
CATEGORIES:General Church Information
END:VEVENT
BEGIN:VEVENT
DTSTART;TZID=UTC:20240404T180000
DTEND;TZID=UTC:20240404T210000
DTSTAMP:20260425T103152
CREATED:20240301T211800Z
LAST-MODIFIED:20240404T135118Z
UID:15723-1712253600-1712264400@www.shilohmbc.net
SUMMARY:Fresh Manna Series 2024
DESCRIPTION:FRESH MANNA SERIES 2024 \nEvery Thursday in April | 6 PM Prayer Hour\, 7 PM Worship Service \nThursday\, April 4          \nGuest Speaker: Pastor Smokie Norful\, Victory Cathedral\, Chicago\, IL \nLecturer: Rev. Brian McLaurin\, Shiloh MBC – Topic: “Mercy” \nThursday\, April 11  \nGuest Speaker: Pastor John Adolph\, Antioch Missionary Baptist Church\, Beaumont\, TX \nLecturer: Pastor Charles Yates\, Greater Mt. Nebo Baptist Church\, Minneapolis – Topic: “Prayer” \nThursday\, April 18          \nGuest Speaker: Bishop Paul S. Morton\, Sr.\, Full Gospel Baptist Church Fellowship\, Atlanta\, GA \nLecturer: Pastor Elijah Wright\, NuWay Baptist Church\, Minneapolis – Topic: “Faithfulness” \nThursday\, April 25 \nGuest Speaker: Bishop Brandon A. Jacobs\, Sr.\, New Zion Temple Church\, Hammond\, IN \nLecturer: Assistant Pastor Steven Daniels\, Shiloh MBC – Topic: “Healing” \nSunday\, April 28 @ 9:30 AM Worship Service \nGuest Speaker: Bishop Bobby McCarter\, Sr.\, Charity Mission/Fairview\, Crawford\, MS \nMember Assessment:  $100 \nInvite your Family & Friends and come out and be Blessed!
URL:https://www.shilohmbc.net/event/fresh-manna-series-2024/
LOCATION:Shiloh MBC\, 501 West Lawson Avenue\, St. Paul\, MN\, 55117\, United States
CATEGORIES:Fresh Manna Series
END:VEVENT
END:VCALENDAR