BEGIN:VCALENDAR
VERSION:2.0
PRODID:-//Shiloh Missionary Baptist Church - ECPv6.15.14//NONSGML v1.0//EN
CALSCALE:GREGORIAN
METHOD:PUBLISH
X-WR-CALNAME:Shiloh Missionary Baptist Church
X-ORIGINAL-URL:https://www.shilohmbc.net
X-WR-CALDESC:Events for Shiloh Missionary Baptist Church
REFRESH-INTERVAL;VALUE=DURATION:PT1H
X-Robots-Tag:noindex
X-PUBLISHED-TTL:PT1H
BEGIN:VTIMEZONE
TZID:UTC
BEGIN:STANDARD
TZOFFSETFROM:+0000
TZOFFSETTO:+0000
TZNAME:UTC
DTSTART:20230101T000000
END:STANDARD
END:VTIMEZONE
BEGIN:VEVENT
DTSTART;TZID=UTC:20240425T100000
DTEND;TZID=UTC:20240425T160000
DTSTAMP:20260425T120622
CREATED:20240422T164828Z
LAST-MODIFIED:20240423T190345Z
UID:15872-1714039200-1714060800@www.shilohmbc.net
SUMMARY:Bro. James "Pops" McCain Food Pantry & Shiloh Mission
DESCRIPTION:BRO. JAMES “POPS” MCCAIN FOOD PANTRY & SHILOH MISSION \nNOW OPEN EVERY THURSDAY at Shiloh’s Outreach Center. \nLocated at 560 W. Lawson Avenue\, St. Paul\, MN 55117. \nWe will be distributing food baskets and other essentials from 10:00 AM – 4:00 PM. \nOur outreach staff is looking forward to serving you with open arms every week. \nEveryone is welcome! \nBe Blessed\, \nPastor Daniels
URL:https://www.shilohmbc.net/event/shiloh-drive-up-food-pantry-27/
LOCATION:Shiloh MBC\, 501 West Lawson Avenue\, St. Paul\, MN\, 55117\, United States
CATEGORIES:Outreach Center
END:VEVENT
BEGIN:VEVENT
DTSTART;TZID=UTC:20240425T180000
DTEND;TZID=UTC:20240425T210000
DTSTAMP:20260425T120622
CREATED:20240301T212028Z
LAST-MODIFIED:20240404T135240Z
UID:15729-1714068000-1714078800@www.shilohmbc.net
SUMMARY:Fresh Manna Series 2024
DESCRIPTION:FRESH MANNA SERIES 2024 \nEvery Thursday in April | 6 PM Prayer Hour\, 7 PM Worship Service \nThursday\, April 4          \nGuest Speaker: Pastor Smokie Norful\, Victory Cathedral\, Chicago\, IL \nLecturer: Rev. Brian McLaurin\, Shiloh MBC – Topic: “Mercy” \nThursday\, April 11  \nGuest Speaker: Pastor John Adolph\, Antioch Missionary Baptist Church\, Beaumont\, TX \nLecturer: Pastor Charles Yates\, Greater Mt. Nebo Baptist Church\, Minneapolis – Topic: “Prayer” \nThursday\, April 18          \nGuest Speaker: Bishop Paul S. Morton\, Sr.\, Full Gospel Baptist Church Fellowship\, Atlanta\, GA \nLecturer: Pastor Elijah Wright\, NuWay Baptist Church\, Minneapolis – Topic: “Faithfulness” \nThursday\, April 25 \nGuest Speaker: Bishop Brandon A. Jacobs\, Sr.\, New Zion Temple Church\, Hammond\, IN \nLecturer: Assistant Pastor Steven Daniels\, Shiloh MBC – Topic: “Healing” \nSunday\, April 28 @ 9:30 AM Worship Service \nGuest Speaker: Bishop Bobby McCarter\, Sr.\, Charity Mission/Fairview\, Crawford\, MS \nMember Assessment:  $100 \nInvite your Family & Friends and come out and be Blessed!
URL:https://www.shilohmbc.net/event/fresh-manna-series-2024-4/
LOCATION:Shiloh MBC\, 501 West Lawson Avenue\, St. Paul\, MN\, 55117\, United States
CATEGORIES:Fresh Manna Series
END:VEVENT
END:VCALENDAR