BEGIN:VCALENDAR
VERSION:2.0
PRODID:-//Shiloh Missionary Baptist Church - ECPv6.15.14//NONSGML v1.0//EN
CALSCALE:GREGORIAN
METHOD:PUBLISH
X-WR-CALNAME:Shiloh Missionary Baptist Church
X-ORIGINAL-URL:https://www.shilohmbc.net
X-WR-CALDESC:Events for Shiloh Missionary Baptist Church
REFRESH-INTERVAL;VALUE=DURATION:PT1H
X-Robots-Tag:noindex
X-PUBLISHED-TTL:PT1H
BEGIN:VTIMEZONE
TZID:UTC
BEGIN:STANDARD
TZOFFSETFROM:+0000
TZOFFSETTO:+0000
TZNAME:UTC
DTSTART:20230101T000000
END:STANDARD
END:VTIMEZONE
BEGIN:VEVENT
DTSTART;VALUE=DATE:20240803
DTEND;VALUE=DATE:20240804
DTSTAMP:20260424T205915
CREATED:20240521T180231Z
LAST-MODIFIED:20240731T170317Z
UID:15943-1722643200-1722729599@www.shilohmbc.net
SUMMARY:Baptism - CANCELLED
DESCRIPTION:BAPTISM for the Month of August has been CANCELLED.\nThe next Baptism will be Saturday\, September 7\, 2024 \n10:00 AM – (Baptism Candidates please arrive by 9 AM) \nShiloh Gathering Center
URL:https://www.shilohmbc.net/event/baptism-new-member-right-hand-of-fellowship-35/
LOCATION:Shiloh MBC\, 501 West Lawson Avenue\, St. Paul\, MN\, 55117\, United States
CATEGORIES:Baptism,New Members Orientation
END:VEVENT
END:VCALENDAR