BEGIN:VCALENDAR
VERSION:2.0
PRODID:-//Shiloh Missionary Baptist Church - ECPv6.15.14//NONSGML v1.0//EN
CALSCALE:GREGORIAN
METHOD:PUBLISH
X-WR-CALNAME:Shiloh Missionary Baptist Church
X-ORIGINAL-URL:https://www.shilohmbc.net
X-WR-CALDESC:Events for Shiloh Missionary Baptist Church
REFRESH-INTERVAL;VALUE=DURATION:PT1H
X-Robots-Tag:noindex
X-PUBLISHED-TTL:PT1H
BEGIN:VTIMEZONE
TZID:UTC
BEGIN:STANDARD
TZOFFSETFROM:+0000
TZOFFSETTO:+0000
TZNAME:UTC
DTSTART:20230101T000000
END:STANDARD
END:VTIMEZONE
BEGIN:VEVENT
DTSTART;VALUE=DATE:20240901
DTEND;VALUE=DATE:20240902
DTSTAMP:20260424T192538
CREATED:20240528T141559Z
LAST-MODIFIED:20240528T141559Z
UID:15971-1725148800-1725235199@www.shilohmbc.net
SUMMARY:PASTOR DANIELS' 73RD BIRTHDAY CELEBRATION
DESCRIPTION:PASTOR DANIELS’ 73rd BIRTHDAY CELEBRATION! \nOur beloved Pastor Daniels will be celebrating his 73rd birthday TODAY\, Sunday\, September 1\, 2024. \nWe will observe his birthday during the 9:30 AM Worship Service. \nPlease bring your cards and gifts for Pastor Daniels to show your love and appreciation. \nGod Bless!
URL:https://www.shilohmbc.net/event/pastor-daniels-73rd-birthday-celebration/
LOCATION:Shiloh MBC\, 501 West Lawson Avenue\, St. Paul\, MN\, 55117\, United States
CATEGORIES:General Church Information
END:VEVENT
END:VCALENDAR