BEGIN:VCALENDAR
VERSION:2.0
PRODID:-//Shiloh Missionary Baptist Church - ECPv6.15.14//NONSGML v1.0//EN
CALSCALE:GREGORIAN
METHOD:PUBLISH
X-WR-CALNAME:Shiloh Missionary Baptist Church
X-ORIGINAL-URL:https://www.shilohmbc.net
X-WR-CALDESC:Events for Shiloh Missionary Baptist Church
REFRESH-INTERVAL;VALUE=DURATION:PT1H
X-Robots-Tag:noindex
X-PUBLISHED-TTL:PT1H
BEGIN:VTIMEZONE
TZID:UTC
BEGIN:STANDARD
TZOFFSETFROM:+0000
TZOFFSETTO:+0000
TZNAME:UTC
DTSTART:20230101T000000
END:STANDARD
END:VTIMEZONE
BEGIN:VEVENT
DTSTART;VALUE=DATE:20241207
DTEND;VALUE=DATE:20241208
DTSTAMP:20260424T145002
CREATED:20240819T140130Z
LAST-MODIFIED:20240819T140247Z
UID:16066-1733529600-1733615999@www.shilohmbc.net
SUMMARY:Baptism/New Member Right Hand of Fellowship
DESCRIPTION:BAPTISM/NEW MEMBER RIGHT HAND OF FELLOWSHIP\nBaptism will be held on the First Saturday of the Month (unless otherwise indicated). \n10:00 AM – Gathering Center \nCANDIDATES: PLEASE ARRIVE BY 9:00 AM \nNEW MEMBER RIGHT HAND OF FELLOWSHIP CEREMONY \nThe Right Hand of Fellowship for all new members completing their New Member Orientation classes will follow Baptism. \nPlease come out to be welcomed into the Shiloh Church Family!
URL:https://www.shilohmbc.net/event/baptism-new-member-right-hand-of-fellowship-39/
LOCATION:Shiloh MBC\, 501 West Lawson Avenue\, St. Paul\, MN\, 55117\, United States
CATEGORIES:Baptism,New Members Orientation
END:VEVENT
BEGIN:VEVENT
DTSTART;TZID=UTC:20241207T140000
DTEND;TZID=UTC:20241207T160000
DTSTAMP:20260424T145002
CREATED:20241202T171740Z
LAST-MODIFIED:20241202T171751Z
UID:16257-1733580000-1733587200@www.shilohmbc.net
SUMMARY:Young Adult Ministry Bowling Event
DESCRIPTION:YOUNG ADULT MINISTRY BOWLING EVENT \nThe Young Adult Ministry is hosting a “Young Adult Ugly Sweater Bowling Event.” \nSaturday\, December 7\, 2024 \n2 PM – 4 PM \nSun Ray Lanes\n2245 Hudson Rd\, St Paul\, MN 55119 \nAll Shiloh Young Adults are encouraged to attend.   See the YAM Staff for questions.
URL:https://www.shilohmbc.net/event/young-adult-ministry-bowling-event/
LOCATION:Sun Ray Lanes\, 2245 Hudson Rd\, St. Paul\, MN\, 55119\, United States
CATEGORIES:YAM
END:VEVENT
END:VCALENDAR