BEGIN:VCALENDAR
VERSION:2.0
PRODID:-//Shiloh Missionary Baptist Church - ECPv6.15.14//NONSGML v1.0//EN
CALSCALE:GREGORIAN
METHOD:PUBLISH
X-ORIGINAL-URL:https://www.shilohmbc.net
X-WR-CALDESC:Events for Shiloh Missionary Baptist Church
REFRESH-INTERVAL;VALUE=DURATION:PT1H
X-Robots-Tag:noindex
X-PUBLISHED-TTL:PT1H
BEGIN:VTIMEZONE
TZID:UTC
BEGIN:STANDARD
TZOFFSETFROM:+0000
TZOFFSETTO:+0000
TZNAME:UTC
DTSTART:20230101T000000
END:STANDARD
END:VTIMEZONE
BEGIN:VEVENT
DTSTART;VALUE=DATE:20241224
DTEND;VALUE=DATE:20241228
DTSTAMP:20260424T131536
CREATED:20241121T011634Z
LAST-MODIFIED:20241121T011850Z
UID:16244-1734998400-1735343999@www.shilohmbc.net
SUMMARY:Church Office CLOSED - Christmas Holiday
DESCRIPTION:CHURCH OFFICE CLOSED – CHRISTMAS HOLIDAY \nThe Shiloh Church Office will be CLOSED\nTuesday – Friday (December 24 – 27) in observance of the Christmas Holiday. \nMerry Christmas!
URL:https://www.shilohmbc.net/event/church-office-closed-christmas-holiday-6/
LOCATION:MN
CATEGORIES:General Church Information
END:VEVENT
BEGIN:VEVENT
DTSTART;VALUE=DATE:20241225
DTEND;VALUE=DATE:20241226
DTSTAMP:20260424T131536
CREATED:20241121T003031Z
LAST-MODIFIED:20241121T003031Z
UID:16232-1735084800-1735171199@www.shilohmbc.net
SUMMARY:Bible Study CANCELLED
DESCRIPTION:BIBLE STUDY CANCELLED \n12 Noon and 6 PM Bible Study will be CANCELLED on Wednesday\, December 25 and January 1\, 2025  in observance of the Christmas and New Year’s Holidays. \nBible Study will return on Wednesday\, January 8\, 2025. \nEnjoy the Holiday Season!
URL:https://www.shilohmbc.net/event/bible-study-cancelled-9/
LOCATION:MN
CATEGORIES:Bible Study
END:VEVENT
BEGIN:VEVENT
DTSTART;VALUE=DATE:20241225
DTEND;VALUE=DATE:20241226
DTSTAMP:20260424T131536
CREATED:20241121T010918Z
LAST-MODIFIED:20241121T010918Z
UID:16240-1735084800-1735171199@www.shilohmbc.net
SUMMARY:Christmas Holiday
DESCRIPTION:CHIRSTMAS HOLIDAY \nWednesday\, December 25\, 2024 \nCelebrate the joyous celebration of our Lord and Savior Jesus Christ’s birth. \nLuke 2:7-14\n7 And she brought forth her firstborn son\, and wrapped him in swaddling clothes\, and laid him in a manger; because there was no room for them in the inn. \n8 And there were in the same country shepherds abiding in the field\, keeping watch over their flock by night. \n9 And\, lo\, the angel of the Lord came upon them\, and the glory of the Lord shone round about them: and they were sore afraid. \n10 And the angel said unto them\, Fear not: for\, behold\, I bring you good tidings of great joy\, which shall be to all people. \n11 For unto you is born this day in the city of David a Saviour\, which is Christ the Lord. \n12 And this shall be a sign unto you; Ye shall find the babe wrapped in swaddling clothes\, lying in a manger. \n13 And suddenly there was with the angel a multitude of the heavenly host praising God\, and saying\, \n14 Glory to God in the highest\, and on earth peace\, good will toward men.
URL:https://www.shilohmbc.net/event/christmas-holiday-4/
LOCATION:MN
CATEGORIES:General Church Information
END:VEVENT
END:VCALENDAR