BEGIN:VCALENDAR
VERSION:2.0
PRODID:-//Shiloh Missionary Baptist Church - ECPv6.15.14//NONSGML v1.0//EN
CALSCALE:GREGORIAN
METHOD:PUBLISH
X-ORIGINAL-URL:https://www.shilohmbc.net
X-WR-CALDESC:Events for Shiloh Missionary Baptist Church
REFRESH-INTERVAL;VALUE=DURATION:PT1H
X-Robots-Tag:noindex
X-PUBLISHED-TTL:PT1H
BEGIN:VTIMEZONE
TZID:UTC
BEGIN:STANDARD
TZOFFSETFROM:+0000
TZOFFSETTO:+0000
TZNAME:UTC
DTSTART:20230101T000000
END:STANDARD
END:VTIMEZONE
BEGIN:VEVENT
DTSTART;VALUE=DATE:20241231
DTEND;VALUE=DATE:20250102
DTSTAMP:20260424T114404
CREATED:20241121T012110Z
LAST-MODIFIED:20241121T012126Z
UID:16246-1735603200-1735775999@www.shilohmbc.net
SUMMARY:Church Office CLOSED - New Year's Holiday
DESCRIPTION:CHURCH OFFICE CLOSED – NEW YEAR’S HOLIDAY \nThe Shiloh Church Office will be CLOSED\nTuesday\, December 31\, 2024 and Wednesday\, January 1\, 2025 in observance of the New Year’s Holiday. \nHappy New Year!
URL:https://www.shilohmbc.net/event/church-office-closed-new-years-holiday-6/
LOCATION:MN
CATEGORIES:General Church Information
END:VEVENT
END:VCALENDAR