BEGIN:VCALENDAR
VERSION:2.0
PRODID:-//Shiloh Missionary Baptist Church - ECPv6.15.14//NONSGML v1.0//EN
CALSCALE:GREGORIAN
METHOD:PUBLISH
X-WR-CALNAME:Shiloh Missionary Baptist Church
X-ORIGINAL-URL:https://www.shilohmbc.net
X-WR-CALDESC:Events for Shiloh Missionary Baptist Church
REFRESH-INTERVAL;VALUE=DURATION:PT1H
X-Robots-Tag:noindex
X-PUBLISHED-TTL:PT1H
BEGIN:VTIMEZONE
TZID:UTC
BEGIN:STANDARD
TZOFFSETFROM:+0000
TZOFFSETTO:+0000
TZNAME:UTC
DTSTART:20240101T000000
END:STANDARD
END:VTIMEZONE
BEGIN:VEVENT
DTSTART;VALUE=DATE:20250108
DTEND;VALUE=DATE:20250109
DTSTAMP:20260424T114306
CREATED:20241210T171456Z
LAST-MODIFIED:20241210T171456Z
UID:16281-1736294400-1736380799@www.shilohmbc.net
SUMMARY:Bible Study Returns
DESCRIPTION:BIBLE STUDY RETURNS \nWednesday\, January 8\, 2025 \n12:00 Noon & 6:00 PM \nShiloh Missionary Baptist Church
URL:https://www.shilohmbc.net/event/bible-study-returns-6/
LOCATION:Shiloh MBC\, 501 West Lawson Avenue\, St. Paul\, MN\, 55117\, United States
CATEGORIES:Bible Study
END:VEVENT
END:VCALENDAR