BEGIN:VCALENDAR
VERSION:2.0
PRODID:-//Shiloh Missionary Baptist Church - ECPv6.15.14//NONSGML v1.0//EN
CALSCALE:GREGORIAN
METHOD:PUBLISH
X-ORIGINAL-URL:https://www.shilohmbc.net
X-WR-CALDESC:Events for Shiloh Missionary Baptist Church
REFRESH-INTERVAL;VALUE=DURATION:PT1H
X-Robots-Tag:noindex
X-PUBLISHED-TTL:PT1H
BEGIN:VTIMEZONE
TZID:UTC
BEGIN:STANDARD
TZOFFSETFROM:+0000
TZOFFSETTO:+0000
TZNAME:UTC
DTSTART:20240101T000000
END:STANDARD
END:VTIMEZONE
BEGIN:VEVENT
DTSTART;VALUE=DATE:20250122
DTEND;VALUE=DATE:20250123
DTSTAMP:20260424T131545
CREATED:20250122T150828Z
LAST-MODIFIED:20250122T150903Z
UID:16325-1737504000-1737590399@www.shilohmbc.net
SUMMARY:Bible Study CANCELLED Today
DESCRIPTION:Greetings\, Shiloh Family and Friends \nDue to the inclement weather we are experiencing\, Bible Study is CANCELLED for Wednesday\, January 22nd and will resume next week. \nHave a blessed week and keep warm! \nPastor Daniels
URL:https://www.shilohmbc.net/event/bible-study-cancelled-today-4/
LOCATION:Shiloh MBC\, 501 West Lawson Avenue\, St. Paul\, MN\, 55117\, United States
CATEGORIES:General Church Information
END:VEVENT
END:VCALENDAR