BEGIN:VCALENDAR
VERSION:2.0
PRODID:-//Shiloh Missionary Baptist Church - ECPv6.15.14//NONSGML v1.0//EN
CALSCALE:GREGORIAN
METHOD:PUBLISH
X-WR-CALNAME:Shiloh Missionary Baptist Church
X-ORIGINAL-URL:https://www.shilohmbc.net
X-WR-CALDESC:Events for Shiloh Missionary Baptist Church
REFRESH-INTERVAL;VALUE=DURATION:PT1H
X-Robots-Tag:noindex
X-PUBLISHED-TTL:PT1H
BEGIN:VTIMEZONE
TZID:UTC
BEGIN:STANDARD
TZOFFSETFROM:+0000
TZOFFSETTO:+0000
TZNAME:UTC
DTSTART:20240101T000000
END:STANDARD
END:VTIMEZONE
BEGIN:VEVENT
DTSTART;VALUE=DATE:20250202
DTEND;VALUE=DATE:20250203
DTSTAMP:20260424T112307
CREATED:20250126T201012Z
LAST-MODIFIED:20250126T201012Z
UID:16350-1738454400-1738540799@www.shilohmbc.net
SUMMARY:Black History Month Presentations 2025
DESCRIPTION:BLACK HISTORY MONTH 2025 \nFebruary 2 – 23 \n9:30 AM Worship Service \nTheme: “Game Changers” \nBlack History Month presentations will be shared with the congregation every Sunday in February by our Youth and Young Adult Ministries. \n1st Sunday: “Fred Hampton\, Sr.”\, by Davaris Cheeks \nAttire:  Normal/African \n2nd Sunday: “Kobe Bryant”\, by Emere Ballard \nAttire:  Go Red! Sunday \n3rd Sunday: “Madam C.J. Walker”\, by Zyia Toussaint \nAttire: Greek/Black Organization paraphernalia \n4th Sunday: “Amanda Gorman”\, by Kiarra Hughes \nAttire: We invite the entire congregation to wear your African attire on culmination Sunday. \nPlease come out and support our Youth and Young Adults as we recognize those African Americans who have been GAME CHANGERS in the community!
URL:https://www.shilohmbc.net/event/black-history-month-presentations-2025/
LOCATION:Shiloh MBC\, 501 West Lawson Avenue\, St. Paul\, MN\, 55117\, United States
CATEGORIES:General Church Information
END:VEVENT
END:VCALENDAR