BEGIN:VCALENDAR
VERSION:2.0
PRODID:-//Shiloh Missionary Baptist Church - ECPv6.15.14//NONSGML v1.0//EN
CALSCALE:GREGORIAN
METHOD:PUBLISH
X-ORIGINAL-URL:https://www.shilohmbc.net
X-WR-CALDESC:Events for Shiloh Missionary Baptist Church
REFRESH-INTERVAL;VALUE=DURATION:PT1H
X-Robots-Tag:noindex
X-PUBLISHED-TTL:PT1H
BEGIN:VTIMEZONE
TZID:UTC
BEGIN:STANDARD
TZOFFSETFROM:+0000
TZOFFSETTO:+0000
TZNAME:UTC
DTSTART:20240101T000000
END:STANDARD
END:VTIMEZONE
BEGIN:VEVENT
DTSTART;TZID=UTC:20250222T090000
DTEND;TZID=UTC:20250222T110000
DTSTAMP:20260424T101043
CREATED:20250128T204823Z
LAST-MODIFIED:20250128T204823Z
UID:16361-1740214800-1740222000@www.shilohmbc.net
SUMMARY:Men Standing for Christ Prayer Breakfast
DESCRIPTION:MEN STANDING FOR CHRIST PRAYER BREAKFAST \nSAVE THE DATE! \nThe first MSFC Prayer Breakfast of 2025 will be held \nSaturday\, February 22 @ 9:00 AM \nShiloh Gathering Center \nAll men of Shiloh are encouraged to attend. \nQuestions?  Please see the MSFC Ministry staff.
URL:https://www.shilohmbc.net/event/men-standing-for-christ-prayer-breakfast/
LOCATION:Shiloh MBC\, 501 West Lawson Avenue\, St. Paul\, MN\, 55117\, United States
CATEGORIES:MSFC
END:VEVENT
END:VCALENDAR