BEGIN:VCALENDAR
VERSION:2.0
PRODID:-//Shiloh Missionary Baptist Church - ECPv6.15.14//NONSGML v1.0//EN
CALSCALE:GREGORIAN
METHOD:PUBLISH
X-ORIGINAL-URL:https://www.shilohmbc.net
X-WR-CALDESC:Events for Shiloh Missionary Baptist Church
REFRESH-INTERVAL;VALUE=DURATION:PT1H
X-Robots-Tag:noindex
X-PUBLISHED-TTL:PT1H
BEGIN:VTIMEZONE
TZID:UTC
BEGIN:STANDARD
TZOFFSETFROM:+0000
TZOFFSETTO:+0000
TZNAME:UTC
DTSTART:20240101T000000
END:STANDARD
END:VTIMEZONE
BEGIN:VEVENT
DTSTART;VALUE=DATE:20250322
DTEND;VALUE=DATE:20250420
DTSTAMP:20260424T072228
CREATED:20250202T031502Z
LAST-MODIFIED:20250202T031937Z
UID:16376-1742601600-1745107199@www.shilohmbc.net
SUMMARY:30-Day Prayer & Fast
DESCRIPTION:SHILOH’s ANNUAL 30-DAY PRAYER & FAST \nBEGINS:  Saturday\, March 22\, 2025 \nENDS:  Easter Sunday\, April 20\, 2025 \nSacrifice something you crave to eat and/or drink. \nAlong with your sacrificial FASTING\, read Philippians 4:6-10 daily and pray. \nGod Bless You\, Pastor Daniels
URL:https://www.shilohmbc.net/event/30-day-prayer-fast-6/
LOCATION:Shiloh MBC\, 501 West Lawson Avenue\, St. Paul\, MN\, 55117\, United States
CATEGORIES:General Church Information
END:VEVENT
BEGIN:VEVENT
DTSTART;VALUE=DATE:20250330
DTEND;VALUE=DATE:20250331
DTSTAMP:20260424T072228
CREATED:20250220T231803Z
LAST-MODIFIED:20250305T145229Z
UID:16426-1743292800-1743379199@www.shilohmbc.net
SUMMARY:Wakeup List Sunday
DESCRIPTION:WAKEUP LIST SUNDAY \nSunday\, March 30\, 2025 will be \n“I’m on the Wakeup List! Sunday” \nPastor Daniels is asking everyone who has a Wakeup List T-shirt\, Sweatshirt or Hoodie to wear it that Sunday. \nIf anyone needs to purchase a shirt\, they are available in the vestibule after service. \nT-Shirts/$15\, Sweatshirts/$25 and Hoodies/$30.
URL:https://www.shilohmbc.net/event/wakeup-list-sunday/
LOCATION:Shiloh MBC\, 501 West Lawson Avenue\, St. Paul\, MN\, 55117\, United States
CATEGORIES:General Church Information
END:VEVENT
BEGIN:VEVENT
DTSTART;VALUE=DATE:20250330
DTEND;VALUE=DATE:20250331
DTSTAMP:20260424T072228
CREATED:20250305T152914Z
LAST-MODIFIED:20250305T153938Z
UID:16466-1743292800-1743379199@www.shilohmbc.net
SUMMARY:New Member Meet & Greet
DESCRIPTION:NEW MEMBER MEET & GREET \nThe Shiloh Membership Ministry will be hosting a:\nNew Member Meet & Greet with Pastor and First Lady Daniels \nSunday\, March 30\, 2025\nGathering Center\nImmediately following 9:30 AM Worship Service \nThis is an opportunity for all new members who have united with Shiloh over the last several months to personally meet and speak with our Pastor and First Lady. \nLight refreshments will be served.
URL:https://www.shilohmbc.net/event/new-member-meet-greet-2/
LOCATION:Shiloh MBC\, 501 West Lawson Avenue\, St. Paul\, MN\, 55117\, United States
CATEGORIES:Membership
END:VEVENT
END:VCALENDAR