BEGIN:VCALENDAR
VERSION:2.0
PRODID:-//Shiloh Missionary Baptist Church - ECPv6.15.14//NONSGML v1.0//EN
CALSCALE:GREGORIAN
METHOD:PUBLISH
X-WR-CALNAME:Shiloh Missionary Baptist Church
X-ORIGINAL-URL:https://www.shilohmbc.net
X-WR-CALDESC:Events for Shiloh Missionary Baptist Church
REFRESH-INTERVAL;VALUE=DURATION:PT1H
X-Robots-Tag:noindex
X-PUBLISHED-TTL:PT1H
BEGIN:VTIMEZONE
TZID:UTC
BEGIN:STANDARD
TZOFFSETFROM:+0000
TZOFFSETTO:+0000
TZNAME:UTC
DTSTART:20240101T000000
END:STANDARD
END:VTIMEZONE
BEGIN:VEVENT
DTSTART;VALUE=DATE:20250322
DTEND;VALUE=DATE:20250420
DTSTAMP:20260424T072133
CREATED:20250202T031502Z
LAST-MODIFIED:20250202T031937Z
UID:16376-1742601600-1745107199@www.shilohmbc.net
SUMMARY:30-Day Prayer & Fast
DESCRIPTION:SHILOH’s ANNUAL 30-DAY PRAYER & FAST \nBEGINS:  Saturday\, March 22\, 2025 \nENDS:  Easter Sunday\, April 20\, 2025 \nSacrifice something you crave to eat and/or drink. \nAlong with your sacrificial FASTING\, read Philippians 4:6-10 daily and pray. \nGod Bless You\, Pastor Daniels
URL:https://www.shilohmbc.net/event/30-day-prayer-fast-6/
LOCATION:Shiloh MBC\, 501 West Lawson Avenue\, St. Paul\, MN\, 55117\, United States
CATEGORIES:General Church Information
END:VEVENT
BEGIN:VEVENT
DTSTART;VALUE=DATE:20250412
DTEND;VALUE=DATE:20250413
DTSTAMP:20260424T072133
CREATED:20250327T041847Z
LAST-MODIFIED:20250327T041847Z
UID:16500-1744416000-1744502399@www.shilohmbc.net
SUMMARY:Youth Ministry Easter Event
DESCRIPTION:YOUTH MINISTRY NEWS \nThe Youth Ministry is putting on a “We Up (because) HE UP! Easter Event” \nSaturday\, April 12\, 2025 \n10 AM until 2 PM \nShiloh Gathering Center \nThis celebration is all about learning the foundation of our faith: He(Jesus) lived\, He died\, and He rose. \nBut one might ask\, “How does this fit into my life? Why should I care about this moment in History?” \nThese questions will be addressed coupled with an exploration of Easter themed games\, art\, food\, fun and yes\, the Gym! \nThe Youth Ministry will be conducting preregistration Sunday\, March 30 and Sunday\, April 6. \nParents\, please stop by the Youth Ministry table in the vestibule after service to sign your child up for this event. \nSo\, mark your calendar for Saturday\, April 12.  He’s UP!!!
URL:https://www.shilohmbc.net/event/youth-ministry-easter-event/
LOCATION:Shiloh MBC\, 501 West Lawson Avenue\, St. Paul\, MN\, 55117\, United States
CATEGORIES:Youth
END:VEVENT
END:VCALENDAR