BEGIN:VCALENDAR
VERSION:2.0
PRODID:-//Shiloh Missionary Baptist Church - ECPv6.15.14//NONSGML v1.0//EN
CALSCALE:GREGORIAN
METHOD:PUBLISH
X-ORIGINAL-URL:https://www.shilohmbc.net
X-WR-CALDESC:Events for Shiloh Missionary Baptist Church
REFRESH-INTERVAL;VALUE=DURATION:PT1H
X-Robots-Tag:noindex
X-PUBLISHED-TTL:PT1H
BEGIN:VTIMEZONE
TZID:UTC
BEGIN:STANDARD
TZOFFSETFROM:+0000
TZOFFSETTO:+0000
TZNAME:UTC
DTSTART:20240101T000000
END:STANDARD
END:VTIMEZONE
BEGIN:VEVENT
DTSTART;TZID=UTC:20250424T180000
DTEND;TZID=UTC:20250424T210000
DTSTAMP:20260424T072241
CREATED:20250322T030226Z
LAST-MODIFIED:20250322T030226Z
UID:16495-1745517600-1745528400@www.shilohmbc.net
SUMMARY:Fresh Manna Series
DESCRIPTION:FRESH MANNA SERIES 2025 \n6 PM – Prayer Hour  \n7 PM – Worship Service \nMember Assessment: $100 \nApril 3rd (Consecration Service)\nPastor Daniels is asking Members to where all white or off white for the Consecration Service. \nGuest Speaker:\nBishop Paul Morton\, Founder Full Gospel Baptist Church Fellowship\, Atlanta\, GA \nLecturer:\nPastor Dwight Buckner\, Gospel Temple C.O.G.I.C\, St. Paul\, MN \nApril 10th\nGuest Speaker:\nPastor Dr. Alyn E. Waller\, Enon Tabernacle Baptist Church\, Philadelphia\, PA \nLecturer:\nPastor Donald Slack II\, 8th Street Baptist Church\, Kansas City\, KS \nApril 17th\nGuest Speaker:\nPastor D.Z. Cofield\, Good Hope Missionary Baptist Church\, Houston\, TX \nLecturer:\nPastor A.Z. Jones\, Piercing Faith Church\, St. Paul\, MN \nApril 24th\nGuest Speaker:\nPastor Tolan Morgan\, Fellowship Bible Baptist Church\, Warner Robins\, GA \nLecturer:\nPastor Donnell Bratton\, Overcomer’s Victory Church\, St. Paul\, MN
URL:https://www.shilohmbc.net/event/fresh-manna-series-2/
LOCATION:Shiloh MBC\, 501 West Lawson Avenue\, St. Paul\, MN\, 55117\, United States
CATEGORIES:Fresh Manna Series
END:VEVENT
END:VCALENDAR