BEGIN:VCALENDAR
VERSION:2.0
PRODID:-//Shiloh Missionary Baptist Church - ECPv6.15.14//NONSGML v1.0//EN
CALSCALE:GREGORIAN
METHOD:PUBLISH
X-WR-CALNAME:Shiloh Missionary Baptist Church
X-ORIGINAL-URL:https://www.shilohmbc.net
X-WR-CALDESC:Events for Shiloh Missionary Baptist Church
REFRESH-INTERVAL;VALUE=DURATION:PT1H
X-Robots-Tag:noindex
X-PUBLISHED-TTL:PT1H
BEGIN:VTIMEZONE
TZID:UTC
BEGIN:STANDARD
TZOFFSETFROM:+0000
TZOFFSETTO:+0000
TZNAME:UTC
DTSTART:20240101T000000
END:STANDARD
END:VTIMEZONE
BEGIN:VEVENT
DTSTART;VALUE=DATE:20250525
DTEND;VALUE=DATE:20250526
DTSTAMP:20260424T061129
CREATED:20250410T180625Z
LAST-MODIFIED:20250410T180725Z
UID:16536-1748131200-1748217599@www.shilohmbc.net
SUMMARY:No Sunday School or New Members Class TODAY
DESCRIPTION:NO SUNDAY SCHOOL or NEW MEMBERS CLASS \nSunday\, May 25\, 2025 \nOnly 9:30 AM Worship Service \nClasses will resume Sunday\, June 1\, 2025
URL:https://www.shilohmbc.net/event/no-sunday-school-or-new-members-class-today/
LOCATION:Shiloh MBC\, 501 West Lawson Avenue\, St. Paul\, MN\, 55117\, United States
CATEGORIES:New Members Orientation,Sunday School
END:VEVENT
BEGIN:VEVENT
DTSTART;VALUE=DATE:20250525
DTEND;VALUE=DATE:20250526
DTSTAMP:20260424T061129
CREATED:20250410T182947Z
LAST-MODIFIED:20250410T183618Z
UID:16540-1748131200-1748217599@www.shilohmbc.net
SUMMARY:58th Church Anniversary Celebration
DESCRIPTION:58th CHURCH ANNIVERSARY CELEBRATION \nSunday\, May 25\, 2025 \n9:30 AM Worship Service \nGuest Speaker:  Rev. Melvin Lewis\, Rising Star Baptist Church\, Tupelo\, MS \nMember Assessment:  $100.00 \nThere will be NO Sunday School or New Members Classes on Anniversary Sunday.
URL:https://www.shilohmbc.net/event/58th-church-anniversary-celebration/
LOCATION:Shiloh MBC\, 501 West Lawson Avenue\, St. Paul\, MN\, 55117\, United States
CATEGORIES:Church Anniversary
END:VEVENT
END:VCALENDAR