BEGIN:VCALENDAR
VERSION:2.0
PRODID:-//Shiloh Missionary Baptist Church - ECPv6.15.14//NONSGML v1.0//EN
CALSCALE:GREGORIAN
METHOD:PUBLISH
X-WR-CALNAME:Shiloh Missionary Baptist Church
X-ORIGINAL-URL:https://www.shilohmbc.net
X-WR-CALDESC:Events for Shiloh Missionary Baptist Church
REFRESH-INTERVAL;VALUE=DURATION:PT1H
X-Robots-Tag:noindex
X-PUBLISHED-TTL:PT1H
BEGIN:VTIMEZONE
TZID:UTC
BEGIN:STANDARD
TZOFFSETFROM:+0000
TZOFFSETTO:+0000
TZNAME:UTC
DTSTART:20240101T000000
END:STANDARD
END:VTIMEZONE
BEGIN:VEVENT
DTSTART;VALUE=DATE:20250526
DTEND;VALUE=DATE:20250527
DTSTAMP:20260424T061127
CREATED:20250410T180859Z
LAST-MODIFIED:20250410T181240Z
UID:16538-1748217600-1748303999@www.shilohmbc.net
SUMMARY:Church Office Closed - Memorial Day
DESCRIPTION:CHURCH OFFICE CLOSED – MEMORIAL DAY\n\nIn observance of the Memorial Day Holiday\, the Shiloh Church Office will be: \nCLOSED on Monday\, May 26\, 2025 \nWe honor those who have given their lives in service for their country. \nWe salute you!
URL:https://www.shilohmbc.net/event/church-office-closed-memorial-day-4/
LOCATION:MN
CATEGORIES:General Church Information
END:VEVENT
END:VCALENDAR