BEGIN:VCALENDAR
VERSION:2.0
PRODID:-//Shiloh Missionary Baptist Church - ECPv6.15.14//NONSGML v1.0//EN
CALSCALE:GREGORIAN
METHOD:PUBLISH
X-WR-CALNAME:Shiloh Missionary Baptist Church
X-ORIGINAL-URL:https://www.shilohmbc.net
X-WR-CALDESC:Events for Shiloh Missionary Baptist Church
REFRESH-INTERVAL;VALUE=DURATION:PT1H
X-Robots-Tag:noindex
X-PUBLISHED-TTL:PT1H
BEGIN:VTIMEZONE
TZID:UTC
BEGIN:STANDARD
TZOFFSETFROM:+0000
TZOFFSETTO:+0000
TZNAME:UTC
DTSTART:20240101T000000
END:STANDARD
END:VTIMEZONE
BEGIN:VEVENT
DTSTART;VALUE=DATE:20250607
DTEND;VALUE=DATE:20250609
DTSTAMP:20260424T045944
CREATED:20250512T210528Z
LAST-MODIFIED:20250526T135303Z
UID:16613-1749254400-1749427199@www.shilohmbc.net
SUMMARY:27th Women of the Word Conference
DESCRIPTION:27th WOMEN OF THE WORD (WOW) CONFERENCE \n2025 Theme:  “I Still Have A Praise” (Psalm 104:33) \nWomen’s Luncheon \nDate:  Saturday\, June 7\, 2025 \nTime:  11:00 AM (WOW Choir Rehearsal following Luncheon) \nLocation:  Sanctuary & Shiloh Gathering Center \nInspirational Speaker:  First Lady Rosa Swift Daniels \nAnnual Women’s Day \nDate:  Sunday\, June 8\, 2025 \nTime:  9:30 AM Worship Service \nGuest Speaker:  Dr. Felisa Swift Washington \nAttire: White Apparel | Accent Color:  Chocolate Brown \nAssessment:  $100 \nLadies\, please be ready to line up in the vestibule by 9:15 am. \nWOW CHOIR REHEARSALS \nThe Women of the Word Choir will rehearse on the following dates: \nTuesday\, May 27\, 2025 @ 6:00 PM \nSaturday\, June 7 immediately following the Women’s Luncheon \nAll Women of Shiloh are invited to be a part of the WOW Choir. \nQuestions?  Please see Choir Directress\, Sis. Delphanie Daniels. \nAll Women of Shiloh are invited and encouraged to participate in all WOW events. \nSis. Katina Lane-Fomby will have chocolate brown flowers\, monogrammed lap wear and fans (with the WOW 2025 scripture and/or theme) for sale Sunday\, May 4 and Sunday\, May 18 immediately before and after worship service. \nFinal sales will be Saturday\, June 7 after the WOW Luncheon. Cash\, Venmo & CashApp preferred; Credit Cards will also be accepted. \n 
URL:https://www.shilohmbc.net/event/27th-women-of-the-word-conference/
LOCATION:Shiloh MBC\, 501 West Lawson Avenue\, St. Paul\, MN\, 55117\, United States
CATEGORIES:WOW
END:VEVENT
BEGIN:VEVENT
DTSTART;TZID=UTC:20250607T120000
DTEND;TZID=UTC:20250607T130000
DTSTAMP:20260424T045944
CREATED:20250601T011442Z
LAST-MODIFIED:20250601T013126Z
UID:16663-1749297600-1749301200@www.shilohmbc.net
SUMMARY:Men Standing for Christ Choir Rehearsal
DESCRIPTION:MEN STANDING FOR CHRIST CHOIR REHEARSAL \nOn behalf of MSFC\, we are inviting all men of Shiloh to join us on: \nSaturday\, June 7 and Saturday\, June 14 @ 12:00 Noon for Choir Rehearsal. \nWe are preparing to sing on Father’s Day\, Sunday\, June 15\, during 9:30 AM Worship Service. \nIn addition\, please join us Saturday\, June 14 at 10 AM for a Men’s Prayer Breakfast in the Gathering Center. \nWe are encouraging all men to attend.  We hope to see you there!
URL:https://www.shilohmbc.net/event/men-standing-for-christ-choir-rehearsal-2/
LOCATION:Shiloh MBC\, 501 West Lawson Avenue\, St. Paul\, MN\, 55117\, United States
CATEGORIES:MSFC
END:VEVENT
BEGIN:VEVENT
DTSTART;TZID=UTC:20250607T130000
DTEND;TZID=UTC:20250607T143000
DTSTAMP:20260424T045944
CREATED:20250512T204852Z
LAST-MODIFIED:20250512T205425Z
UID:16610-1749301200-1749306600@www.shilohmbc.net
SUMMARY:WOW Choir Rehearsals
DESCRIPTION:WOW CHOIR REHEARSALS \nThe Women of the Word Choir will rehearse on the following dates: \nTuesday\, May 27\, 2025 @ 6:00 PM \nSaturday\, June 7 immediately following the Women’s Luncheon \nAll Women of Shiloh are invited to be a part of the WOW Choir. \nQuestions?  Please see Choir Directress\, Sis. Delphanie Daniels.
URL:https://www.shilohmbc.net/event/wow-choir-rehearsals-6/
LOCATION:Shiloh MBC\, 501 West Lawson Avenue\, St. Paul\, MN\, 55117\, United States
CATEGORIES:WOW
END:VEVENT
END:VCALENDAR