BEGIN:VCALENDAR
VERSION:2.0
PRODID:-//Shiloh Missionary Baptist Church - ECPv6.15.14//NONSGML v1.0//EN
CALSCALE:GREGORIAN
METHOD:PUBLISH
X-ORIGINAL-URL:https://www.shilohmbc.net
X-WR-CALDESC:Events for Shiloh Missionary Baptist Church
REFRESH-INTERVAL;VALUE=DURATION:PT1H
X-Robots-Tag:noindex
X-PUBLISHED-TTL:PT1H
BEGIN:VTIMEZONE
TZID:UTC
BEGIN:STANDARD
TZOFFSETFROM:+0000
TZOFFSETTO:+0000
TZNAME:UTC
DTSTART:20240101T000000
END:STANDARD
END:VTIMEZONE
BEGIN:VEVENT
DTSTART;TZID=UTC:20250614T100000
DTEND;TZID=UTC:20250614T120000
DTSTAMP:20260424T050004
CREATED:20250601T013437Z
LAST-MODIFIED:20250601T013437Z
UID:16667-1749895200-1749902400@www.shilohmbc.net
SUMMARY:Men Standing For Christ Prayer Breakfast
DESCRIPTION:MEN STANDING FOR CHRIST PRAYER BREAKFAST \nOn behalf of MSFC\, we are inviting all men of Shiloh to join us on: \nSaturday\, June 14 at 10 AM for a Men’s Prayer Breakfast in the Gathering Center. \nMen’s Choir Rehearsal will follow the breakfast as we prepare to sing for \nFather’s Day on Sunday\, June 15 during the 9:30 AM Worship Service. \nWe are encouraging all men to attend. \nWe hope to see you there!
URL:https://www.shilohmbc.net/event/men-standing-for-christ-prayer-breakfast-2/
LOCATION:Shiloh MBC\, 501 West Lawson Avenue\, St. Paul\, MN\, 55117\, United States
CATEGORIES:MSFC
END:VEVENT
BEGIN:VEVENT
DTSTART;TZID=UTC:20250614T120000
DTEND;TZID=UTC:20250614T130000
DTSTAMP:20260424T050004
CREATED:20250601T011607Z
LAST-MODIFIED:20250601T011607Z
UID:16665-1749902400-1749906000@www.shilohmbc.net
SUMMARY:Men Standing for Christ Choir Rehearsal
DESCRIPTION:MEN STANDING FOR CHRIST CHOIR REHEARSAL \nOn behalf of MSFC\, we are inviting all men of Shiloh to join us on: \nSaturday\, June 7 and Saturday\, June 14 @ 12:00 Noon for Choir Rehearsal. \nWe are preparing to sing on Father’s Day\, Sunday\, June 15\, during 9:30 AM Worship Service. \nIn addition\, please join us Saturday\, June 14 at 10 AM for a Men’s Prayer Breakfast in the Gathering Center. \nWe are encouraging all men to attend.  We hope to see you there!
URL:https://www.shilohmbc.net/event/men-standing-for-christ-choir-rehearsal-3/
LOCATION:Shiloh MBC\, 501 West Lawson Avenue\, St. Paul\, MN\, 55117\, United States
CATEGORIES:MSFC
END:VEVENT
END:VCALENDAR