BEGIN:VCALENDAR
VERSION:2.0
PRODID:-//Shiloh Missionary Baptist Church - ECPv6.15.14//NONSGML v1.0//EN
CALSCALE:GREGORIAN
METHOD:PUBLISH
X-WR-CALNAME:Shiloh Missionary Baptist Church
X-ORIGINAL-URL:https://www.shilohmbc.net
X-WR-CALDESC:Events for Shiloh Missionary Baptist Church
REFRESH-INTERVAL;VALUE=DURATION:PT1H
X-Robots-Tag:noindex
X-PUBLISHED-TTL:PT1H
BEGIN:VTIMEZONE
TZID:UTC
BEGIN:STANDARD
TZOFFSETFROM:+0000
TZOFFSETTO:+0000
TZNAME:UTC
DTSTART:20240101T000000
END:STANDARD
END:VTIMEZONE
BEGIN:VEVENT
DTSTART;VALUE=DATE:20250619
DTEND;VALUE=DATE:20250620
DTSTAMP:20260424T045942
CREATED:20250604T180308Z
LAST-MODIFIED:20250610T035740Z
UID:16670-1750291200-1750377599@www.shilohmbc.net
SUMMARY:Juneteenth - Celebrating Freedom!
DESCRIPTION:JUNETEENTH HOLIDAY \nIn observance of the Juneteenth Holiday\, \nthe Shiloh Church Office AND Outreach Center will be CLOSED Thursday\, June 19\, 2025. \n\n\nWhat is Juneteenth?\n\n\n\n\n\n\n\nJuneteenth (Jubilee Day; Emancipation Day (Texas); Freedom Day; Black Independence Day;) commemorates June 19\, 1865\,\nwhen Maj. Gen. Gordon Granger led Union soldiers into Galveston\, Texas\, bringing news that slavery in the United States had ended by executive decree.
URL:https://www.shilohmbc.net/event/juneteenth-celebrating-freedom/
LOCATION:MN
CATEGORIES:General Church Information
END:VEVENT
END:VCALENDAR