BEGIN:VCALENDAR
VERSION:2.0
PRODID:-//Shiloh Missionary Baptist Church - ECPv6.15.14//NONSGML v1.0//EN
CALSCALE:GREGORIAN
METHOD:PUBLISH
X-ORIGINAL-URL:https://www.shilohmbc.net
X-WR-CALDESC:Events for Shiloh Missionary Baptist Church
REFRESH-INTERVAL;VALUE=DURATION:PT1H
X-Robots-Tag:noindex
X-PUBLISHED-TTL:PT1H
BEGIN:VTIMEZONE
TZID:UTC
BEGIN:STANDARD
TZOFFSETFROM:+0000
TZOFFSETTO:+0000
TZNAME:UTC
DTSTART:20240101T000000
END:STANDARD
END:VTIMEZONE
BEGIN:VEVENT
DTSTART;VALUE=DATE:20250622
DTEND;VALUE=DATE:20250623
DTSTAMP:20260424T050008
CREATED:20250512T235429Z
LAST-MODIFIED:20250526T132218Z
UID:16628-1750550400-1750636799@www.shilohmbc.net
SUMMARY:Higher Learning Graduate Recognition Ceremony
DESCRIPTION:HIGHER LEARNING GRADUATE RECOGNITION CEREMONY \nThe Higher Learning Ministry will recognize all high school and college graduates on: \n Sunday\, June 22\, 2025 \nDuring 9:30 AM Worship Service \nSpeaker:  Dr. Michael A. Brooks\, Jr.\, D.D.S. \nShiloh Missionary Baptist Church\, St. Paul\, MN \nGraduates:  Please feel free to wear your caps and gowns for the Ceremony and meet in the vestibule @ 9:15 AM to line up for the processional. \nIf you have any questions regarding our annual celebration and recognition of graduates\, please see Dr. Latanya Daniels.
URL:https://www.shilohmbc.net/event/higher-learning-graduate-recognition-ceremony-2/
LOCATION:Shiloh MBC\, 501 West Lawson Avenue\, St. Paul\, MN\, 55117\, United States
CATEGORIES:Higher Learning
END:VEVENT
BEGIN:VEVENT
DTSTART;TZID=UTC:20250622T083000
DTEND;TZID=UTC:20250622T091500
DTSTAMP:20260424T050008
CREATED:20250512T220809Z
LAST-MODIFIED:20250513T001318Z
UID:16616-1750581000-1750583700@www.shilohmbc.net
SUMMARY:Last Sunday School & New Members Class
DESCRIPTION:LAST SUNDAY SCHOOL & NEW MEMBERS CLASS BEFORE SUMMER BREAK \nSunday\, June 22\, 2025 \n8:40 AM – 9:15 AM \nClasses will resume in September after Labor Day. \nEnjoy your summer!
URL:https://www.shilohmbc.net/event/last-sunday-school-new-members-class/
LOCATION:Shiloh MBC\, 501 West Lawson Avenue\, St. Paul\, MN\, 55117\, United States
CATEGORIES:New Members Orientation,Sunday School
END:VEVENT
END:VCALENDAR