BEGIN:VCALENDAR
VERSION:2.0
PRODID:-//Shiloh Missionary Baptist Church - ECPv6.15.14//NONSGML v1.0//EN
CALSCALE:GREGORIAN
METHOD:PUBLISH
X-ORIGINAL-URL:https://www.shilohmbc.net
X-WR-CALDESC:Events for Shiloh Missionary Baptist Church
REFRESH-INTERVAL;VALUE=DURATION:PT1H
X-Robots-Tag:noindex
X-PUBLISHED-TTL:PT1H
BEGIN:VTIMEZONE
TZID:UTC
BEGIN:STANDARD
TZOFFSETFROM:+0000
TZOFFSETTO:+0000
TZNAME:UTC
DTSTART:20240101T000000
END:STANDARD
END:VTIMEZONE
BEGIN:VEVENT
DTSTART;VALUE=DATE:20250703
DTEND;VALUE=DATE:20250705
DTSTAMP:20260424T004733
CREATED:20250513T001645Z
LAST-MODIFIED:20250610T035718Z
UID:16631-1751500800-1751673599@www.shilohmbc.net
SUMMARY:Church Office Closed - Independence Day
DESCRIPTION:CHURCH OFFICE CLOSED – Independence Day\nIn observance of the Independence Day Holiday\, \nthe Shiloh Church Office AND Outreach Center will be CLOSED on  \nThursday\, July 3 AND Friday\, July 4\, 2025. \nEnjoy your holiday!
URL:https://www.shilohmbc.net/event/church-office-closed-independence-day-5/
LOCATION:Shiloh MBC\, 501 West Lawson Avenue\, St. Paul\, MN\, 55117\, United States
CATEGORIES:General Church Information
END:VEVENT
END:VCALENDAR