BEGIN:VCALENDAR
VERSION:2.0
PRODID:-//Shiloh Missionary Baptist Church - ECPv6.15.14//NONSGML v1.0//EN
CALSCALE:GREGORIAN
METHOD:PUBLISH
X-ORIGINAL-URL:https://www.shilohmbc.net
X-WR-CALDESC:Events for Shiloh Missionary Baptist Church
REFRESH-INTERVAL;VALUE=DURATION:PT1H
X-Robots-Tag:noindex
X-PUBLISHED-TTL:PT1H
BEGIN:VTIMEZONE
TZID:UTC
BEGIN:STANDARD
TZOFFSETFROM:+0000
TZOFFSETTO:+0000
TZNAME:UTC
DTSTART:20240101T000000
END:STANDARD
END:VTIMEZONE
BEGIN:VEVENT
DTSTART;TZID=UTC:20250716T190000
DTEND;TZID=UTC:20250716T203000
DTSTAMP:20260424T004735
CREATED:20250711T053004Z
LAST-MODIFIED:20250711T053004Z
UID:16716-1752692400-1752697800@www.shilohmbc.net
SUMMARY:Mid-Week Intercessory & Praise Service
DESCRIPTION:MID-WEEK INTERCESSORY & PRAISE SERVICE \nThere will be a Mid-Week Intercessory and Praise Service \nWednesday July 16\, 2025 @ 7:00 PM \nPastor Daniels is asking all members to come out and pray for our families\, our community and our country. \nBe Blessed!
URL:https://www.shilohmbc.net/event/mid-week-intercessory-praise-service/
LOCATION:Shiloh MBC\, 501 West Lawson Avenue\, St. Paul\, MN\, 55117\, United States
CATEGORIES:General Church Information
END:VEVENT
END:VCALENDAR