BEGIN:VCALENDAR
VERSION:2.0
PRODID:-//Shiloh Missionary Baptist Church - ECPv6.15.14//NONSGML v1.0//EN
CALSCALE:GREGORIAN
METHOD:PUBLISH
X-ORIGINAL-URL:https://www.shilohmbc.net
X-WR-CALDESC:Events for Shiloh Missionary Baptist Church
REFRESH-INTERVAL;VALUE=DURATION:PT1H
X-Robots-Tag:noindex
X-PUBLISHED-TTL:PT1H
BEGIN:VTIMEZONE
TZID:UTC
BEGIN:STANDARD
TZOFFSETFROM:+0000
TZOFFSETTO:+0000
TZNAME:UTC
DTSTART:20240101T000000
END:STANDARD
END:VTIMEZONE
BEGIN:VEVENT
DTSTART;TZID=UTC:20250726T110000
DTEND;TZID=UTC:20250726T130000
DTSTAMP:20260424T004731
CREATED:20250701T185850Z
LAST-MODIFIED:20250701T185925Z
UID:16713-1753527600-1753534800@www.shilohmbc.net
SUMMARY:Choir Workshop
DESCRIPTION:CHOIR WORKSHOP \nThere will be a Choir Workshop for the Gospel Choir on: \nSaturday\, July 26\, 2025 \n11:00 AM \nAll who are interested in joining the Gospel Choir must attend this workshop\, as it is a mandatory step in joining the choir. \nPlease sign up by calling the church office or speaking with Rev. Steven Daniels.
URL:https://www.shilohmbc.net/event/choir-workshop-5/
LOCATION:Shiloh MBC\, 501 West Lawson Avenue\, St. Paul\, MN\, 55117\, United States
CATEGORIES:Choir
END:VEVENT
END:VCALENDAR