BEGIN:VCALENDAR
VERSION:2.0
PRODID:-//Shiloh Missionary Baptist Church - ECPv6.15.14//NONSGML v1.0//EN
CALSCALE:GREGORIAN
METHOD:PUBLISH
X-WR-CALNAME:Shiloh Missionary Baptist Church
X-ORIGINAL-URL:https://www.shilohmbc.net
X-WR-CALDESC:Events for Shiloh Missionary Baptist Church
REFRESH-INTERVAL;VALUE=DURATION:PT1H
X-Robots-Tag:noindex
X-PUBLISHED-TTL:PT1H
BEGIN:VTIMEZONE
TZID:UTC
BEGIN:STANDARD
TZOFFSETFROM:+0000
TZOFFSETTO:+0000
TZNAME:UTC
DTSTART:20240101T000000
END:STANDARD
END:VTIMEZONE
BEGIN:VEVENT
DTSTART;VALUE=DATE:20250727
DTEND;VALUE=DATE:20250728
DTSTAMP:20260423T231808
CREATED:20250513T002815Z
LAST-MODIFIED:20250625T152218Z
UID:16633-1753574400-1753660799@www.shilohmbc.net
SUMMARY:Shiloh Family & Friends Day
DESCRIPTION:SHILOH FAMILY & FRIENDS DAY \nSunday\, July 27\, 2025 \n9:30 AM Worship Service \nGuest Speaker: \nBishop Rudolph Balfour\, New Wine Kingdom Ministries\, Nassau\, Bahamas \nPlease bring your family and friends out to this wonderful occasion. \nJoin us for a family PICNIC on the back lawn immediately following worship service!
URL:https://www.shilohmbc.net/event/shiloh-family-friends-day-2/
LOCATION:Shiloh MBC\, 501 West Lawson Avenue\, St. Paul\, MN\, 55117\, United States
CATEGORIES:Family & Friends
END:VEVENT
END:VCALENDAR