BEGIN:VCALENDAR
VERSION:2.0
PRODID:-//Shiloh Missionary Baptist Church - ECPv6.15.14//NONSGML v1.0//EN
CALSCALE:GREGORIAN
METHOD:PUBLISH
X-ORIGINAL-URL:https://www.shilohmbc.net
X-WR-CALDESC:Events for Shiloh Missionary Baptist Church
REFRESH-INTERVAL;VALUE=DURATION:PT1H
X-Robots-Tag:noindex
X-PUBLISHED-TTL:PT1H
BEGIN:VTIMEZONE
TZID:UTC
BEGIN:STANDARD
TZOFFSETFROM:+0000
TZOFFSETTO:+0000
TZNAME:UTC
DTSTART:20240101T000000
END:STANDARD
END:VTIMEZONE
BEGIN:VEVENT
DTSTART;VALUE=DATE:20250831
DTEND;VALUE=DATE:20250901
DTSTAMP:20260423T231823
CREATED:20250505T182718Z
LAST-MODIFIED:20250505T182718Z
UID:16592-1756598400-1756684799@www.shilohmbc.net
SUMMARY:Birthdays of the Month Celebration
DESCRIPTION:Celebrating Shiloh Birthdays!  \nThe Birthday Club Ministry invites all Shiloh members with birthdays this month to a Birthday Celebration in the Gathering Center on the last Sunday of the month (unless otherwise indicated) after 9:30 AM Worship Service. \nPlease RSVP TODAY by signing-up in the Vestibule after service or call the Church Office @ 651-487-4092. \nFor additional information\, please see a member of Birthday Club Ministry. \nBe Blessed\, \nThe Birthday Club Ministry
URL:https://www.shilohmbc.net/event/birthdays-of-the-month-celebration-37/
LOCATION:Shiloh MBC\, 501 West Lawson Avenue\, St. Paul\, MN\, 55117\, United States
CATEGORIES:Birthday
END:VEVENT
BEGIN:VEVENT
DTSTART;VALUE=DATE:20250831
DTEND;VALUE=DATE:20250901
DTSTAMP:20260423T231823
CREATED:20250513T004033Z
LAST-MODIFIED:20250804T151222Z
UID:16635-1756598400-1756684799@www.shilohmbc.net
SUMMARY:Pastor Daniels' 74th Birthday Celebration
DESCRIPTION:PASTOR DANIELS’ 74th BIRTHDAY CELEBRATION! \nOur beloved Pastor Daniels will be celebrating his 74th birthday Monday\, September 1\, 2025. \nWe will observe his birthday on Sunday\, August 31 during 9:30 AM Worship Service. \nPlease bring your cards and gifts for Pastor Daniels to show your love and appreciation. \nThe Deaconess Ministry will also have cards available for Pastor Daniels birthday wishes! \nGod Bless!
URL:https://www.shilohmbc.net/event/pastor-daniels-74th-birthday-celebration/
LOCATION:Shiloh MBC\, 501 West Lawson Avenue\, St. Paul\, MN\, 55117\, United States
CATEGORIES:General Church Information
END:VEVENT
END:VCALENDAR