BEGIN:VCALENDAR
VERSION:2.0
PRODID:-//Shiloh Missionary Baptist Church - ECPv6.15.14//NONSGML v1.0//EN
CALSCALE:GREGORIAN
METHOD:PUBLISH
X-WR-CALNAME:Shiloh Missionary Baptist Church
X-ORIGINAL-URL:https://www.shilohmbc.net
X-WR-CALDESC:Events for Shiloh Missionary Baptist Church
REFRESH-INTERVAL;VALUE=DURATION:PT1H
X-Robots-Tag:noindex
X-PUBLISHED-TTL:PT1H
BEGIN:VTIMEZONE
TZID:UTC
BEGIN:STANDARD
TZOFFSETFROM:+0000
TZOFFSETTO:+0000
TZNAME:UTC
DTSTART:20240101T000000
END:STANDARD
END:VTIMEZONE
BEGIN:VEVENT
DTSTART;VALUE=DATE:20251012
DTEND;VALUE=DATE:20251013
DTSTAMP:20260423T201906
CREATED:20250901T190612Z
LAST-MODIFIED:20250901T190826Z
UID:16808-1760227200-1760313599@www.shilohmbc.net
SUMMARY:Shiloh's Go Pink! Sunday
DESCRIPTION:SHILOH’S GO PINK! SUNDAY \nSunday\, October 12\, 2025\n9:30 AM Worship Service\n \nOctober is Breast Cancer Awareness Month! \nWe invite the entire congregation to Go Pink! in your own fashion in support of all those living with and/or those affected in some way by Cancer.
URL:https://www.shilohmbc.net/event/shilohs-go-pink-sunday-3/
LOCATION:Shiloh MBC\, 501 West Lawson Avenue\, St. Paul\, MN\, 55117\, United States
CATEGORIES:WOW
END:VEVENT
BEGIN:VEVENT
DTSTART;VALUE=DATE:20251012
DTEND;VALUE=DATE:20251013
DTSTAMP:20260423T201906
CREATED:20250904T182756Z
LAST-MODIFIED:20250904T184216Z
UID:16822-1760227200-1760313599@www.shilohmbc.net
SUMMARY:YAM Spirit Month - Go Pink! Sunday
DESCRIPTION:YAM SPIRIT MONTH \nEvery Sunday in October \nSunday\, October 5 – Represent your Clique (College\, Greek Affiliation\, Nonprofit Org\, Family\, etc.) \nSunday\, October 12 – Go Pink! Sunday (wear pink in honor of Breast Cancer Awareness Month) \nSunday\, October 19 – YAM Explosion 2025! Culmination Sunday (wear your Shiloh church apparel) \nSunday\, October 26 – Sports Sunday (wear your gear to represent your favorite Sports team) \nWe invite the entire congregation to participate in YAM Spirit Month!
URL:https://www.shilohmbc.net/event/yam-spirit-month-go-pink-sunday-2/
LOCATION:Shiloh MBC\, 501 West Lawson Avenue\, St. Paul\, MN\, 55117\, United States
CATEGORIES:YAM
END:VEVENT
END:VCALENDAR