BEGIN:VCALENDAR
VERSION:2.0
PRODID:-//Shiloh Missionary Baptist Church - ECPv6.15.14//NONSGML v1.0//EN
CALSCALE:GREGORIAN
METHOD:PUBLISH
X-ORIGINAL-URL:https://www.shilohmbc.net
X-WR-CALDESC:Events for Shiloh Missionary Baptist Church
REFRESH-INTERVAL;VALUE=DURATION:PT1H
X-Robots-Tag:noindex
X-PUBLISHED-TTL:PT1H
BEGIN:VTIMEZONE
TZID:UTC
BEGIN:STANDARD
TZOFFSETFROM:+0000
TZOFFSETTO:+0000
TZNAME:UTC
DTSTART:20240101T000000
END:STANDARD
END:VTIMEZONE
BEGIN:VEVENT
DTSTART;VALUE=DATE:20251029
DTEND;VALUE=DATE:20251030
DTSTAMP:20260423T171309
CREATED:20251028T181413Z
LAST-MODIFIED:20251028T181413Z
UID:16917-1761696000-1761782399@www.shilohmbc.net
SUMMARY:Bible Study CANCELLED
DESCRIPTION:Greetings\, Shiloh Family and Friends\, \nBible Study is CANCELLED for Wednesday\, October 29\, 2025 @ \n12:00 Noon and 6:00 PM. \nBible Study will resume next Wednesday\, November 5\, 2025. \nHave a blessed day!
URL:https://www.shilohmbc.net/event/bible-study-cancelled-11/
LOCATION:MN
CATEGORIES:Bible Study
END:VEVENT
BEGIN:VEVENT
DTSTART;TZID=UTC:20251029T080000
DTEND;TZID=UTC:20251029T170000
DTSTAMP:20260423T171309
CREATED:20251029T222015Z
LAST-MODIFIED:20251029T222938Z
UID:16925-1761724800-1761757200@www.shilohmbc.net
SUMMARY:Mission Ministry Thanksgiving Basket Give-Away
DESCRIPTION:MISSION MINISTRY THANKSGIVING BASKET GIVE-AWAY \nThe Mission Ministry is committed to helping families in need for the Thanksgiving Holiday. \nIf you would like to receive a Thanksgiving food box\, please provide your name and the number of members in your household\, to the church office @ 651-487-4092 during normal business hours (Monday-Thursday). \nSign-ups will be accepted through Friday\, November 14. \nTHANKSGIVING BASKET DISTRIBUTION & PICK-UP:  \nWednesday\, November 19\, 2025 @ 10:00 AM – 4:00 PM \nShiloh Outreach Center
URL:https://www.shilohmbc.net/event/mission-ministry-thanksgiving-basket-give-away/
LOCATION:MN
END:VEVENT
END:VCALENDAR