BEGIN:VCALENDAR
VERSION:2.0
PRODID:-//Shiloh Missionary Baptist Church - ECPv6.15.14//NONSGML v1.0//EN
CALSCALE:GREGORIAN
METHOD:PUBLISH
X-ORIGINAL-URL:https://www.shilohmbc.net
X-WR-CALDESC:Events for Shiloh Missionary Baptist Church
REFRESH-INTERVAL;VALUE=DURATION:PT1H
X-Robots-Tag:noindex
X-PUBLISHED-TTL:PT1H
BEGIN:VTIMEZONE
TZID:UTC
BEGIN:STANDARD
TZOFFSETFROM:+0000
TZOFFSETTO:+0000
TZNAME:UTC
DTSTART:20240101T000000
END:STANDARD
END:VTIMEZONE
BEGIN:VEVENT
DTSTART;VALUE=DATE:20251102
DTEND;VALUE=DATE:20251103
DTSTAMP:20260423T171350
CREATED:20251012T201354Z
LAST-MODIFIED:20251012T201524Z
UID:16875-1762041600-1762127999@www.shilohmbc.net
SUMMARY:Daylight Saving Time Ends
DESCRIPTION:DAYLIGHT SAVING TIME ENDS \nSunday\, November 2\, 2025\n2:00 AM \nPlease remember to FALL BACK and set your clocks BACK ONE HOUR!
URL:https://www.shilohmbc.net/event/daylight-saving-time-ends-8/
LOCATION:MN
CATEGORIES:General Church Information
END:VEVENT
END:VCALENDAR