BEGIN:VCALENDAR
VERSION:2.0
PRODID:-//Shiloh Missionary Baptist Church - ECPv6.15.14//NONSGML v1.0//EN
CALSCALE:GREGORIAN
METHOD:PUBLISH
X-WR-CALNAME:Shiloh Missionary Baptist Church
X-ORIGINAL-URL:https://www.shilohmbc.net
X-WR-CALDESC:Events for Shiloh Missionary Baptist Church
REFRESH-INTERVAL;VALUE=DURATION:PT1H
X-Robots-Tag:noindex
X-PUBLISHED-TTL:PT1H
BEGIN:VTIMEZONE
TZID:UTC
BEGIN:STANDARD
TZOFFSETFROM:+0000
TZOFFSETTO:+0000
TZNAME:UTC
DTSTART:20240101T000000
END:STANDARD
END:VTIMEZONE
BEGIN:VEVENT
DTSTART;VALUE=DATE:20251112
DTEND;VALUE=DATE:20251113
DTSTAMP:20260423T171203
CREATED:20251106T215102Z
LAST-MODIFIED:20251106T220034Z
UID:16933-1762905600-1762991999@www.shilohmbc.net
SUMMARY:In-Person Bible Study
DESCRIPTION:IN-PERSON BIBLE STUDY \nWednesday\, November 12\, 2025 \n6:00 PM \nShiloh Sanctuary \nThis session will be Live Streamed. \nPastor Daniels is asking all Shiloh members (and all our virtual members) to attend. \nNOTE: \nWe will also have our in-person 12:00 Noon Bible Study on Wednesday\, November 12.
URL:https://www.shilohmbc.net/event/in-person-bible-study/
LOCATION:Shiloh MBC\, 501 West Lawson Avenue\, St. Paul\, MN\, 55117\, United States
CATEGORIES:Bible Study
END:VEVENT
END:VCALENDAR