BEGIN:VCALENDAR
VERSION:2.0
PRODID:-//Shiloh Missionary Baptist Church - ECPv6.15.14//NONSGML v1.0//EN
CALSCALE:GREGORIAN
METHOD:PUBLISH
X-WR-CALNAME:Shiloh Missionary Baptist Church
X-ORIGINAL-URL:https://www.shilohmbc.net
X-WR-CALDESC:Events for Shiloh Missionary Baptist Church
REFRESH-INTERVAL;VALUE=DURATION:PT1H
X-Robots-Tag:noindex
X-PUBLISHED-TTL:PT1H
BEGIN:VTIMEZONE
TZID:UTC
BEGIN:STANDARD
TZOFFSETFROM:+0000
TZOFFSETTO:+0000
TZNAME:UTC
DTSTART:20240101T000000
END:STANDARD
END:VTIMEZONE
BEGIN:VEVENT
DTSTART;VALUE=DATE:20251124
DTEND;VALUE=DATE:20251129
DTSTAMP:20260423T171205
CREATED:20251012T210756Z
LAST-MODIFIED:20251029T214901Z
UID:16881-1763942400-1764374399@www.shilohmbc.net
SUMMARY:Church Office Closed - Thanksgiving Holiday
DESCRIPTION:CHURCH OFFICE CLOSED – THANKSGIVING HOLIDAY \nThe Shiloh Church Office and Outreach Center will be CLOSED \nMonday – Friday\, November 24 – 28\, 2025 \nin observance of the Thanksgiving Holiday. \nGive thanks to God for His many blessings!
URL:https://www.shilohmbc.net/event/church-office-closed-thanksgiving-holiday-4/
LOCATION:MN
CATEGORIES:General Church Information
END:VEVENT
BEGIN:VEVENT
DTSTART;VALUE=DATE:20251127
DTEND;VALUE=DATE:20251128
DTSTAMP:20260423T171205
CREATED:20251012T212231Z
LAST-MODIFIED:20251012T212231Z
UID:16888-1764201600-1764287999@www.shilohmbc.net
SUMMARY:Thanksgiving Holiday
DESCRIPTION:THANKSGIVING HOLIDAY \nThursday\, November 27\, 2025 \nLet us give thanks to the Lord for all He has done and for how He continues to work in our lives. \nThanks be to God!  To God be the Glory!
URL:https://www.shilohmbc.net/event/thanksgiving-holiday-6/
LOCATION:MN
CATEGORIES:General Church Information
END:VEVENT
END:VCALENDAR