BEGIN:VCALENDAR
VERSION:2.0
PRODID:-//Shiloh Missionary Baptist Church - ECPv6.15.14//NONSGML v1.0//EN
CALSCALE:GREGORIAN
METHOD:PUBLISH
X-WR-CALNAME:Shiloh Missionary Baptist Church
X-ORIGINAL-URL:https://www.shilohmbc.net
X-WR-CALDESC:Events for Shiloh Missionary Baptist Church
REFRESH-INTERVAL;VALUE=DURATION:PT1H
X-Robots-Tag:noindex
X-PUBLISHED-TTL:PT1H
BEGIN:VTIMEZONE
TZID:UTC
BEGIN:STANDARD
TZOFFSETFROM:+0000
TZOFFSETTO:+0000
TZNAME:UTC
DTSTART:20240101T000000
END:STANDARD
END:VTIMEZONE
BEGIN:VEVENT
DTSTART;TZID=UTC:20251209T080000
DTEND;TZID=UTC:20251209T170000
DTSTAMP:20260423T153345
CREATED:20251209T224714Z
LAST-MODIFIED:20251209T224714Z
UID:16986-1765267200-1765299600@www.shilohmbc.net
SUMMARY:REHEARSAL CANCELLED - Youth Christmas Program
DESCRIPTION:YOUTH CHRISTMAS PROGRAM REHEARSAL CANCELLED \nGreetings\, Shiloh Family and Friends \nParents\, if you were planning to bring your youth tonight Tuesday\, December 9 for the Youth Christmas Play Rehearsal\, \nplease note that tonight’s practice is CANCELLED because of the snow that we are receiving and that is still yet to come. \nPlease spread the word to anyone you may know. \nThank you and Stay safe! \nShiloh MB Church \nYouth Ministry
URL:https://www.shilohmbc.net/event/rehearsal-cancelled-youth-christmas-program/
LOCATION:MN
END:VEVENT
END:VCALENDAR