BEGIN:VCALENDAR
VERSION:2.0
PRODID:-//Shiloh Missionary Baptist Church - ECPv6.15.14//NONSGML v1.0//EN
CALSCALE:GREGORIAN
METHOD:PUBLISH
X-WR-CALNAME:Shiloh Missionary Baptist Church
X-ORIGINAL-URL:https://www.shilohmbc.net
X-WR-CALDESC:Events for Shiloh Missionary Baptist Church
REFRESH-INTERVAL;VALUE=DURATION:PT1H
X-Robots-Tag:noindex
X-PUBLISHED-TTL:PT1H
BEGIN:VTIMEZONE
TZID:UTC
BEGIN:STANDARD
TZOFFSETFROM:+0000
TZOFFSETTO:+0000
TZNAME:UTC
DTSTART:20240101T000000
END:STANDARD
END:VTIMEZONE
BEGIN:VEVENT
DTSTART;VALUE=DATE:20251222
DTEND;VALUE=DATE:20251227
DTSTAMP:20260423T153247
CREATED:20251119T224005Z
LAST-MODIFIED:20251119T224005Z
UID:16970-1766361600-1766793599@www.shilohmbc.net
SUMMARY:Church Office CLOSED - Christmas Holiday
DESCRIPTION:CHURCH OFFICE CLOSED – CHRISTMAS HOLIDAY \nThe Shiloh Church Office will be CLOSED \nMonday – Friday (December 22 – 26) 2025 \nin observance of the Christmas Holiday. \nMerry Christmas!
URL:https://www.shilohmbc.net/event/church-office-closed-christmas-holiday-7/
LOCATION:MN
CATEGORIES:General Church Information
END:VEVENT
BEGIN:VEVENT
DTSTART;VALUE=DATE:20251225
DTEND;VALUE=DATE:20251226
DTSTAMP:20260423T153247
CREATED:20251119T222147Z
LAST-MODIFIED:20251119T222147Z
UID:16957-1766620800-1766707199@www.shilohmbc.net
SUMMARY:Christmas Holiday
DESCRIPTION:CHIRSTMAS HOLIDAY \nThursday\, December 25\, 2025 \nCelebrate the joyous celebration of our Lord and Savior Jesus Christ’s birth. \nLuke 2:7-14\n7 And she brought forth her firstborn son\, and wrapped him in swaddling clothes\, and laid him in a manger; because there was no room for them in the inn. \n8 And there were in the same country shepherds abiding in the field\, keeping watch over their flock by night. \n9 And\, lo\, the angel of the Lord came upon them\, and the glory of the Lord shone round about them: and they were sore afraid. \n10 And the angel said unto them\, Fear not: for\, behold\, I bring you good tidings of great joy\, which shall be to all people. \n11 For unto you is born this day in the city of David a Saviour\, which is Christ the Lord. \n12 And this shall be a sign unto you; Ye shall find the babe wrapped in swaddling clothes\, lying in a manger. \n13 And suddenly there was with the angel a multitude of the heavenly host praising God\, and saying\, \n14 Glory to God in the highest\, and on earth peace\, good will toward men.
URL:https://www.shilohmbc.net/event/christmas-holiday-5/
LOCATION:MN
CATEGORIES:General Church Information
END:VEVENT
END:VCALENDAR