BEGIN:VCALENDAR
VERSION:2.0
PRODID:-//Shiloh Missionary Baptist Church - ECPv6.15.14//NONSGML v1.0//EN
CALSCALE:GREGORIAN
METHOD:PUBLISH
X-WR-CALNAME:Shiloh Missionary Baptist Church
X-ORIGINAL-URL:https://www.shilohmbc.net
X-WR-CALDESC:Events for Shiloh Missionary Baptist Church
REFRESH-INTERVAL;VALUE=DURATION:PT1H
X-Robots-Tag:noindex
X-PUBLISHED-TTL:PT1H
BEGIN:VTIMEZONE
TZID:UTC
BEGIN:STANDARD
TZOFFSETFROM:+0000
TZOFFSETTO:+0000
TZNAME:UTC
DTSTART:20240101T000000
END:STANDARD
END:VTIMEZONE
BEGIN:VEVENT
DTSTART;VALUE=DATE:20251231
DTEND;VALUE=DATE:20260101
DTSTAMP:20260423T140512
CREATED:20251119T221612Z
LAST-MODIFIED:20251119T221612Z
UID:16955-1767139200-1767225599@www.shilohmbc.net
SUMMARY:Bible Study CANCELLED
DESCRIPTION:BIBLE STUDY CANCELLED \n12 Noon and 6 PM Bible Study will be CANCELLED on \nWednesday\, December 24 and December 31\, 2025 \nin observance of the Christmas and New Year’s Holidays. \nBible Study will return on Wednesday\, January 7\, 2026. \nEnjoy the Holiday Season!
URL:https://www.shilohmbc.net/event/bible-study-cancelled-13/
LOCATION:Shiloh MBC\, 501 West Lawson Avenue\, St. Paul\, MN\, 55117\, United States
CATEGORIES:Bible Study
END:VEVENT
BEGIN:VEVENT
DTSTART;VALUE=DATE:20251231
DTEND;VALUE=DATE:20260103
DTSTAMP:20260423T140512
CREATED:20251119T224450Z
LAST-MODIFIED:20251119T224450Z
UID:16972-1767139200-1767398399@www.shilohmbc.net
SUMMARY:Church Office CLOSED - New Year's Holiday
DESCRIPTION:CHURCH OFFICE CLOSED – NEW YEAR’S HOLIDAY \nThe Shiloh Church Office will be CLOSED \nWednesday\, December 31 – Friday\, January 2\, 2026 \nin observance of the New Year’s Holiday. \nHappy New Year!
URL:https://www.shilohmbc.net/event/church-office-closed-new-years-holiday-7/
LOCATION:MN
CATEGORIES:General Church Information
END:VEVENT
END:VCALENDAR