BEGIN:VCALENDAR
VERSION:2.0
PRODID:-//Shiloh Missionary Baptist Church - ECPv6.15.14//NONSGML v1.0//EN
CALSCALE:GREGORIAN
METHOD:PUBLISH
X-WR-CALNAME:Shiloh Missionary Baptist Church
X-ORIGINAL-URL:https://www.shilohmbc.net
X-WR-CALDESC:Events for Shiloh Missionary Baptist Church
REFRESH-INTERVAL;VALUE=DURATION:PT1H
X-Robots-Tag:noindex
X-PUBLISHED-TTL:PT1H
BEGIN:VTIMEZONE
TZID:UTC
BEGIN:STANDARD
TZOFFSETFROM:+0000
TZOFFSETTO:+0000
TZNAME:UTC
DTSTART:20250101T000000
END:STANDARD
END:VTIMEZONE
BEGIN:VEVENT
DTSTART;VALUE=DATE:20260104
DTEND;VALUE=DATE:20260105
DTSTAMP:20260423T140509
CREATED:20251119T223545Z
LAST-MODIFIED:20251119T223545Z
UID:16968-1767484800-1767571199@www.shilohmbc.net
SUMMARY:Sunday School/New Members Class Returns
DESCRIPTION:SUNDAY SCHOOL / NEW MEMBERS CLASS RETURNS \nSunday\, January 4\, 2026 \n8:40 AM – 9:15 AM \nShiloh Missionary Baptist Church
URL:https://www.shilohmbc.net/event/sunday-school-new-members-class-returns-6/
LOCATION:Shiloh MBC\, 501 West Lawson Avenue\, St. Paul\, MN\, 55117\, United States
CATEGORIES:New Members Orientation,Sunday School
END:VEVENT
END:VCALENDAR