BEGIN:VCALENDAR
VERSION:2.0
PRODID:-//Shiloh Missionary Baptist Church - ECPv6.15.14//NONSGML v1.0//EN
CALSCALE:GREGORIAN
METHOD:PUBLISH
X-ORIGINAL-URL:https://www.shilohmbc.net
X-WR-CALDESC:Events for Shiloh Missionary Baptist Church
REFRESH-INTERVAL;VALUE=DURATION:PT1H
X-Robots-Tag:noindex
X-PUBLISHED-TTL:PT1H
BEGIN:VTIMEZONE
TZID:UTC
BEGIN:STANDARD
TZOFFSETFROM:+0000
TZOFFSETTO:+0000
TZNAME:UTC
DTSTART:20250101T000000
END:STANDARD
END:VTIMEZONE
BEGIN:VEVENT
DTSTART;VALUE=DATE:20260124
DTEND;VALUE=DATE:20260126
DTSTAMP:20260423T140651
CREATED:20251230T172459Z
LAST-MODIFIED:20260107T195557Z
UID:17005-1769212800-1769385599@www.shilohmbc.net
SUMMARY:2026 Shiloh's Vision Weekend
DESCRIPTION:2026 SHILOH’S VISION WEEKEND \nSaturday\, January\, 24\, 2026 \n8:30 AM – Breakfast / Registration \n10:00 AM – Conference & Business Meeting \nACTION:  Ministry Leaders & Members\, PLEASE REGISTER for this event through the link below. \nPlease join us for Shiloh’s Vision Weekend! \nWe will begin with a fellowship breakfast for all our ministry members. Then\, we will bring you information\, highlights\, accomplishments and an exciting experience of what the future holds for Shiloh during this annual ministry leadership event.  The conference also includes the Annual Church Business Meeting. \nThis is a Mandatory Meeting for all Ministry leaders and Ministry members.  Leaders\, please contact the church office ONLY if you WILL NOT be attending.  Otherwise\, please REGISTER NOW through the link below. \nWe will culminate the weekend with the:\nINSTALLATION OF OFFICERS CEREMONY \nSunday\, January 25\, 2026 \nDuring 9:30 AM Worship Service \nGuest Speaker:  Pastor Ezra Fagge’Tt\, Unity Temple Church of God in Christ\, Brooklyn Center\, MN \nAll Ministry Leaders and Members are asked to attend to be sworn into their Ministry positions for 2026. \nCLICK HERE TO REGISTER
URL:https://www.shilohmbc.net/event/2026-shilohs-vision-weekend/
LOCATION:Shiloh MBC\, 501 West Lawson Avenue\, St. Paul\, MN\, 55117\, United States
CATEGORIES:Ministry
END:VEVENT
BEGIN:VEVENT
DTSTART;VALUE=DATE:20260125
DTEND;VALUE=DATE:20260126
DTSTAMP:20260423T140651
CREATED:20251119T223046Z
LAST-MODIFIED:20251119T223046Z
UID:16964-1769299200-1769385599@www.shilohmbc.net
SUMMARY:Birthdays of the Month Celebration
DESCRIPTION:Celebrating Shiloh Birthdays!  \nThe Birthday Club Ministry invites all Shiloh members with birthdays this month to a Birthday Celebration in the Gathering Center on the last Sunday of the month (unless otherwise indicated) after 9:30 AM Worship Service. \nPlease RSVP TODAY by signing-up in the Vestibule after service or call the Church Office @ 651-487-4092. \nFor additional information\, please see a member of Birthday Club Ministry. \nBe Blessed\, \nThe Birthday Club Ministry
URL:https://www.shilohmbc.net/event/birthdays-of-the-month-celebration-42/
LOCATION:Shiloh MBC\, 501 West Lawson Avenue\, St. Paul\, MN\, 55117\, United States
CATEGORIES:Birthday
END:VEVENT
END:VCALENDAR