BEGIN:VCALENDAR
VERSION:2.0
PRODID:-//Shiloh Missionary Baptist Church - ECPv6.15.14//NONSGML v1.0//EN
CALSCALE:GREGORIAN
METHOD:PUBLISH
X-ORIGINAL-URL:https://www.shilohmbc.net
X-WR-CALDESC:Events for Shiloh Missionary Baptist Church
REFRESH-INTERVAL;VALUE=DURATION:PT1H
X-Robots-Tag:noindex
X-PUBLISHED-TTL:PT1H
BEGIN:VTIMEZONE
TZID:UTC
BEGIN:STANDARD
TZOFFSETFROM:+0000
TZOFFSETTO:+0000
TZNAME:UTC
DTSTART:20250101T000000
END:STANDARD
END:VTIMEZONE
BEGIN:VEVENT
DTSTART;VALUE=DATE:20260307
DTEND;VALUE=DATE:20260406
DTSTAMP:20260423T111332
CREATED:20260207T221342Z
LAST-MODIFIED:20260302T165455Z
UID:17075-1772841600-1775433599@www.shilohmbc.net
SUMMARY:30-Day Prayer & Fast
DESCRIPTION:SHILOH’s ANNUAL 30-DAY PRAYER & FAST \nBEGINS:  Saturday\, March 7\, 2026 \nENDS:  Easter Sunday\, April 5\, 2026 \nSacrifice something you crave to eat and/or drink. \nAlong with your sacrificial FASTING\, read Philippians 4:6-10 daily and pray. \nGod Bless You\, Pastor Daniels
URL:https://www.shilohmbc.net/event/30-day-prayer-fast-7/
LOCATION:Shiloh MBC\, 501 West Lawson Avenue\, St. Paul\, MN\, 55117\, United States
CATEGORIES:General Church Information
END:VEVENT
BEGIN:VEVENT
DTSTART;VALUE=DATE:20260315
DTEND;VALUE=DATE:20260316
DTSTAMP:20260423T111332
CREATED:20260314T034212Z
LAST-MODIFIED:20260314T035658Z
UID:17166-1773532800-1773619199@www.shilohmbc.net
SUMMARY:CANCELLED-Sunday School & Worship Service
DESCRIPTION:Greetings\, Shiloh Family and Friends\, \nDue to the weather projection of the Twin Cities receiving 12-18 inches of snow\, between Saturday night over into Sunday\, \nand with the expectation of this being the largest snow storm in years\, out of safety and concern for our members\, \nPastor Daniels has made the decision to CANCEL Sunday School & Worship Service for Sunday\, March 15\, 2026. \nWe look forward to worshiping together next Sunday. \nHave a blessed day and stay safe!
URL:https://www.shilohmbc.net/event/worship-service-cancelled/
LOCATION:Shiloh MBC\, 501 West Lawson Avenue\, St. Paul\, MN\, 55117\, United States
CATEGORIES:General Church Information
END:VEVENT
END:VCALENDAR