BEGIN:VCALENDAR
VERSION:2.0
PRODID:-//Shiloh Missionary Baptist Church - ECPv6.15.14//NONSGML v1.0//EN
CALSCALE:GREGORIAN
METHOD:PUBLISH
X-WR-CALNAME:Shiloh Missionary Baptist Church
X-ORIGINAL-URL:https://www.shilohmbc.net
X-WR-CALDESC:Events for Shiloh Missionary Baptist Church
REFRESH-INTERVAL;VALUE=DURATION:PT1H
X-Robots-Tag:noindex
X-PUBLISHED-TTL:PT1H
BEGIN:VTIMEZONE
TZID:UTC
BEGIN:STANDARD
TZOFFSETFROM:+0000
TZOFFSETTO:+0000
TZNAME:UTC
DTSTART:20250101T000000
END:STANDARD
END:VTIMEZONE
BEGIN:VEVENT
DTSTART;VALUE=DATE:20260307
DTEND;VALUE=DATE:20260406
DTSTAMP:20260423T093737
CREATED:20260207T221342Z
LAST-MODIFIED:20260302T165455Z
UID:17075-1772841600-1775433599@www.shilohmbc.net
SUMMARY:30-Day Prayer & Fast
DESCRIPTION:SHILOH’s ANNUAL 30-DAY PRAYER & FAST \nBEGINS:  Saturday\, March 7\, 2026 \nENDS:  Easter Sunday\, April 5\, 2026 \nSacrifice something you crave to eat and/or drink. \nAlong with your sacrificial FASTING\, read Philippians 4:6-10 daily and pray. \nGod Bless You\, Pastor Daniels
URL:https://www.shilohmbc.net/event/30-day-prayer-fast-7/
LOCATION:Shiloh MBC\, 501 West Lawson Avenue\, St. Paul\, MN\, 55117\, United States
CATEGORIES:General Church Information
END:VEVENT
BEGIN:VEVENT
DTSTART;VALUE=DATE:20260328
DTEND;VALUE=DATE:20260330
DTSTAMP:20260423T093737
CREATED:20260321T164429Z
LAST-MODIFIED:20260321T164558Z
UID:17188-1774656000-1774828799@www.shilohmbc.net
SUMMARY:Young Adult Weekend + WakeUp List Sunday
DESCRIPTION:YOUNG ADULT MINISTRY NEWS \nNext weekend is Young Adult Weekend as well as “I’M ON THE WAKEUP LIST SUNDAY”! \nOn Saturday\, March 28 @ 11 AM there will be Young Adult Choir Rehearsal and (in-person) Bible Class. \nThen be ready to sing on Sunday\, March 29 @ 9:30 AM Worship Service for WakeUp List Sunday. \nAll Shiloh Young Adults are encouraged to attend! \nThe entire congregation is invited to wear your Wakeup List apparel on Sunday\, March 29. \nYou can still purchase shirts in the vestibule after worship service.
URL:https://www.shilohmbc.net/event/young-adult-weekend-wakeup-list-sunday/
LOCATION:Shiloh MBC\, 501 West Lawson Avenue\, St. Paul\, MN\, 55117\, United States
CATEGORIES:YAM
END:VEVENT
BEGIN:VEVENT
DTSTART;VALUE=DATE:20260329
DTEND;VALUE=DATE:20260330
DTSTAMP:20260423T093737
CREATED:20260207T215646Z
LAST-MODIFIED:20260207T215646Z
UID:17071-1774742400-1774828799@www.shilohmbc.net
SUMMARY:Wakeup List Sunday
DESCRIPTION:WAKEUP LIST SUNDAY \nSunday\, March 29\, 2026 \nDuring 9:30 AM Worship Service \n“I’m on the Wakeup List! Sunday” \nPastor Daniels is asking everyone who has a Wakeup List T-shirt\, Sweatshirt or Hoodie to wear it that Sunday. \nIf anyone needs to purchase a shirt\, they are available in the vestibule after service. \nT-Shirts/$15\, Sweatshirts/$25 and Hoodies/$30.
URL:https://www.shilohmbc.net/event/wakeup-list-sunday-2/
LOCATION:Shiloh MBC\, 501 West Lawson Avenue\, St. Paul\, MN\, 55117\, United States
CATEGORIES:General Church Information
END:VEVENT
BEGIN:VEVENT
DTSTART;VALUE=DATE:20260329
DTEND;VALUE=DATE:20260330
DTSTAMP:20260423T093737
CREATED:20260207T220500Z
LAST-MODIFIED:20260207T220500Z
UID:17073-1774742400-1774828799@www.shilohmbc.net
SUMMARY:New Member Meet & Greet
DESCRIPTION:NEW MEMBER MEET & GREET \nThe Shiloh Membership Ministry will be hosting a:\nNew Member Meet & Greet with Pastor and First Lady Daniels \nSunday\, March 29\, 2026\nShiloh Gathering Center\nImmediately following 9:30 AM Worship Service \nThis is an opportunity for all new members who have united with Shiloh over the last several months to personally meet and speak with our Pastor and First Lady. \nCome out to be welcomed into the Shiloh Church Family! \nLight refreshments will be served.
URL:https://www.shilohmbc.net/event/new-member-meet-greet-3/
LOCATION:Shiloh MBC\, 501 West Lawson Avenue\, St. Paul\, MN\, 55117\, United States
CATEGORIES:Membership
END:VEVENT
END:VCALENDAR