BEGIN:VCALENDAR
VERSION:2.0
PRODID:-//Shiloh Missionary Baptist Church - ECPv6.15.14//NONSGML v1.0//EN
CALSCALE:GREGORIAN
METHOD:PUBLISH
X-ORIGINAL-URL:https://www.shilohmbc.net
X-WR-CALDESC:Events for Shiloh Missionary Baptist Church
REFRESH-INTERVAL;VALUE=DURATION:PT1H
X-Robots-Tag:noindex
X-PUBLISHED-TTL:PT1H
BEGIN:VTIMEZONE
TZID:UTC
BEGIN:STANDARD
TZOFFSETFROM:+0000
TZOFFSETTO:+0000
TZNAME:UTC
DTSTART:20250101T000000
END:STANDARD
END:VTIMEZONE
BEGIN:VEVENT
DTSTART;VALUE=DATE:20260415
DTEND;VALUE=DATE:20260416
DTSTAMP:20260423T111331
CREATED:20260331T181726Z
LAST-MODIFIED:20260331T181726Z
UID:17242-1776211200-1776297599@www.shilohmbc.net
SUMMARY:NO Bible Study
DESCRIPTION:BIBLE STUDY CANCELLED \nDue to the Fresh Manna 2026 conference\, \nthere will be NO 12 Noon or 6 PM Bible Study on: \nWednesday\, April 8\, 15\, 22 and 29. \nBible Study will resume on Wednesday\, May 6\, 2026 at both 12 noon (in person) and 6 pm (online).
URL:https://www.shilohmbc.net/event/no-bible-study-2/
LOCATION:MN
CATEGORIES:Bible Study
END:VEVENT
END:VCALENDAR