BEGIN:VCALENDAR
VERSION:2.0
PRODID:-//Shiloh Missionary Baptist Church - ECPv6.15.14//NONSGML v1.0//EN
CALSCALE:GREGORIAN
METHOD:PUBLISH
X-WR-CALNAME:Shiloh Missionary Baptist Church
X-ORIGINAL-URL:https://www.shilohmbc.net
X-WR-CALDESC:Events for Shiloh Missionary Baptist Church
REFRESH-INTERVAL;VALUE=DURATION:PT1H
X-Robots-Tag:noindex
X-PUBLISHED-TTL:PT1H
BEGIN:VTIMEZONE
TZID:UTC
BEGIN:STANDARD
TZOFFSETFROM:+0000
TZOFFSETTO:+0000
TZNAME:UTC
DTSTART:20250101T000000
END:STANDARD
END:VTIMEZONE
BEGIN:VEVENT
DTSTART;TZID=UTC:20260423T180000
DTEND;TZID=UTC:20260423T210000
DTSTAMP:20260423T093059
CREATED:20260227T184938Z
LAST-MODIFIED:20260409T221243Z
UID:17113-1776967200-1776978000@www.shilohmbc.net
SUMMARY:Fresh Manna 2026
DESCRIPTION:FRESH MANNA 2026 \nTheme: “A Fresh Word From the Lord” \nScripture:  Jeremiah 37:17 \nThursdays \n6 PM – Prayer Hour  \n7 PM – Worship Service \nMember Assessment: $200 \nApril 9th \nGuest Speaker – Bishop Brandon Jacobs\, Sr.\, Pastor – New Zion Temple\, Hammond\, IN \nLecturer – Pastor Tamarkus Cook\, Sr.\, Pastor – Saint Smyrna Baptist Church\, Newnan\, GA \n  \nApril 16th \nGuest Speaker – Pastor Tolan Morgan\, Pastor – Fellowship Bible Baptist Church\, Warner Robins\, GA \nLecturer – Rev. Steven Daniels\, Asst. Pastor – Shiloh Missionary Baptist Church\, St. Paul\, MN \n  \nApril 23rd \nGuest Speaker – Pastor Smokie Norful\, Pastor – Victory Cathedral Worship Center\, Bolingbrook\, IL \nLecturer – Pastor Durward Minor\, Sr.\, Pastor – New Beginning Baptist Church\, Starkville\, MS \n  \nApril 30th \nGuest Speaker – Pastor Frank Ray\, Sr.\, Pastor – New Salem Baptist Church\, Memphis\, TN \nLecturer – Pastor Derwin Perry\, Pastor – Goodship Missionary Baptist Church\, Millbrook\, AL \n  \nSunday – April 26th @ 9:30 AM Worship Service \nGuest Speaker – Bishop Kevin Gresham\, Pastor – Greater Saint John Cathedral\, Upper Marlboro\, MD \n 
URL:https://www.shilohmbc.net/event/fresh-manna-2026-3/
LOCATION:Shiloh MBC\, 501 West Lawson Avenue\, St. Paul\, MN\, 55117\, United States
CATEGORIES:Fresh Manna Series
END:VEVENT
END:VCALENDAR