BEGIN:VCALENDAR
VERSION:2.0
PRODID:-//Shiloh Missionary Baptist Church - ECPv6.15.14//NONSGML v1.0//EN
CALSCALE:GREGORIAN
METHOD:PUBLISH
X-WR-CALNAME:Shiloh Missionary Baptist Church
X-ORIGINAL-URL:https://www.shilohmbc.net
X-WR-CALDESC:Events for Shiloh Missionary Baptist Church
REFRESH-INTERVAL;VALUE=DURATION:PT1H
X-Robots-Tag:noindex
X-PUBLISHED-TTL:PT1H
BEGIN:VTIMEZONE
TZID:UTC
BEGIN:STANDARD
TZOFFSETFROM:+0000
TZOFFSETTO:+0000
TZNAME:UTC
DTSTART:20250101T000000
END:STANDARD
END:VTIMEZONE
BEGIN:VEVENT
DTSTART;VALUE=DATE:20260524
DTEND;VALUE=DATE:20260525
DTSTAMP:20260423T111112
CREATED:20260227T192638Z
LAST-MODIFIED:20260227T192638Z
UID:17127-1779580800-1779667199@www.shilohmbc.net
SUMMARY:No Sunday School or New Members Class TODAY
DESCRIPTION:NO SUNDAY SCHOOL or NEW MEMBERS CLASS \nSunday\, May 24\, 2026 \nOnly 9:30 AM Worship Service \nClasses will resume next Sunday\, May 31\, 2026
URL:https://www.shilohmbc.net/event/no-sunday-school-or-new-members-class-today-2/
LOCATION:Shiloh MBC\, 501 West Lawson Avenue\, St. Paul\, MN\, 55117\, United States
CATEGORIES:General Church Information
END:VEVENT
BEGIN:VEVENT
DTSTART;VALUE=DATE:20260524
DTEND;VALUE=DATE:20260525
DTSTAMP:20260423T111112
CREATED:20260227T193431Z
LAST-MODIFIED:20260410T145304Z
UID:17129-1779580800-1779667199@www.shilohmbc.net
SUMMARY:59th Church Anniversary Celebration
DESCRIPTION:59th CHURCH ANNIVERSARY CELEBRATION \nSunday\, May 24\, 2026 \n9:30 AM Worship Service \nGuest Speaker:  Bishop Bobby McCarter \nCharity Mission/Fairview Full Gospel Baptist Church\, Crawford\, TX \nMember Assessment:  $100.00 \nThere will be NO Sunday School or New Members Classes on Anniversary Sunday.
URL:https://www.shilohmbc.net/event/59th-church-anniversary-celebration/
LOCATION:Shiloh MBC\, 501 West Lawson Avenue\, St. Paul\, MN\, 55117\, United States
CATEGORIES:Church Anniversary
END:VEVENT
END:VCALENDAR