BEGIN:VCALENDAR
VERSION:2.0
PRODID:-//Shiloh Missionary Baptist Church - ECPv6.15.14//NONSGML v1.0//EN
CALSCALE:GREGORIAN
METHOD:PUBLISH
X-ORIGINAL-URL:https://www.shilohmbc.net
X-WR-CALDESC:Events for Shiloh Missionary Baptist Church
REFRESH-INTERVAL;VALUE=DURATION:PT1H
X-Robots-Tag:noindex
X-PUBLISHED-TTL:PT1H
BEGIN:VTIMEZONE
TZID:UTC
BEGIN:STANDARD
TZOFFSETFROM:+0000
TZOFFSETTO:+0000
TZNAME:UTC
DTSTART:20250101T000000
END:STANDARD
END:VTIMEZONE
BEGIN:VEVENT
DTSTART;VALUE=DATE:20260621
DTEND;VALUE=DATE:20260622
DTSTAMP:20260423T123017
CREATED:20260326T165811Z
LAST-MODIFIED:20260327T231256Z
UID:17219-1782000000-1782086399@www.shilohmbc.net
SUMMARY:Father's Day
DESCRIPTION:FATHER’S DAY\n \nSunday\, June 21 2026 \nHappy Father’s Day!
URL:https://www.shilohmbc.net/event/fathers-day-9/
LOCATION:MN
CATEGORIES:General Church Information
END:VEVENT
END:VCALENDAR