BEGIN:VCALENDAR
VERSION:2.0
PRODID:-//Shiloh Missionary Baptist Church - ECPv6.15.14//NONSGML v1.0//EN
CALSCALE:GREGORIAN
METHOD:PUBLISH
X-ORIGINAL-URL:https://www.shilohmbc.net
X-WR-CALDESC:Events for Shiloh Missionary Baptist Church
REFRESH-INTERVAL;VALUE=DURATION:PT1H
X-Robots-Tag:noindex
X-PUBLISHED-TTL:PT1H
BEGIN:VTIMEZONE
TZID:UTC
BEGIN:STANDARD
TZOFFSETFROM:+0000
TZOFFSETTO:+0000
TZNAME:UTC
DTSTART:20250101T000000
END:STANDARD
END:VTIMEZONE
BEGIN:VEVENT
DTSTART;VALUE=DATE:20260628
DTEND;VALUE=DATE:20260629
DTSTAMP:20260423T123020
CREATED:20260326T152744Z
LAST-MODIFIED:20260326T152744Z
UID:17212-1782604800-1782691199@www.shilohmbc.net
SUMMARY:Birthdays of the Month Celebration
DESCRIPTION:Celebrating Shiloh Birthdays!  \nThe Birthday Club Ministry invites all Shiloh members with birthdays this month to a Birthday Celebration in the Gathering Center on the last Sunday of the month (unless otherwise indicated) after 9:30 AM Worship Service. \nPlease RSVP TODAY by signing-up in the Vestibule after service or call the Church Office @ 651-487-4092. \nFor additional information\, please see a member of Birthday Club Ministry. \nBe Blessed\, \nThe Birthday Club Ministry
URL:https://www.shilohmbc.net/event/birthdays-of-the-month-celebration-47/
LOCATION:Shiloh MBC\, 501 West Lawson Avenue\, St. Paul\, MN\, 55117\, United States
CATEGORIES:Birthday
END:VEVENT
BEGIN:VEVENT
DTSTART;VALUE=DATE:20260628
DTEND;VALUE=DATE:20260629
DTSTAMP:20260423T123020
CREATED:20260327T232630Z
LAST-MODIFIED:20260327T232630Z
UID:17229-1782604800-1782691199@www.shilohmbc.net
SUMMARY:Higher Learning Graduate Recognition Ceremony
DESCRIPTION:HIGHER LEARNING GRADUATE RECOGNITION CEREMONY \nThe Higher Learning Ministry will recognize all high school and college graduates on: \n Sunday\, June 28\, 2026 \nDuring 9:30 AM Worship Service \nSpeaker:  TBD \nShiloh Missionary Baptist Church\, St. Paul\, MN \nGraduates:  Please feel free to wear your caps and gowns for the Ceremony and meet in the vestibule @ 9:15 AM to line up for the processional. \nIf you have any questions regarding our annual celebration and recognition of graduates\, please see Dr. Latanya Daniels.
URL:https://www.shilohmbc.net/event/higher-learning-graduate-recognition-ceremony-3/
LOCATION:Shiloh MBC\, 501 West Lawson Avenue\, St. Paul\, MN\, 55117\, United States
CATEGORIES:Higher Learning
END:VEVENT
END:VCALENDAR