BEGIN:VCALENDAR
VERSION:2.0
PRODID:-//Shiloh Missionary Baptist Church - ECPv6.15.14//NONSGML v1.0//EN
CALSCALE:GREGORIAN
METHOD:PUBLISH
X-ORIGINAL-URL:https://www.shilohmbc.net
X-WR-CALDESC:Events for Shiloh Missionary Baptist Church
REFRESH-INTERVAL;VALUE=DURATION:PT1H
X-Robots-Tag:noindex
X-PUBLISHED-TTL:PT1H
BEGIN:VTIMEZONE
TZID:UTC
BEGIN:STANDARD
TZOFFSETFROM:+0000
TZOFFSETTO:+0000
TZNAME:UTC
DTSTART:20250101T000000
END:STANDARD
END:VTIMEZONE
BEGIN:VEVENT
DTSTART;VALUE=DATE:20260726
DTEND;VALUE=DATE:20260727
DTSTAMP:20260423T155139
CREATED:20260327T233350Z
LAST-MODIFIED:20260327T233509Z
UID:17231-1785024000-1785110399@www.shilohmbc.net
SUMMARY:Shiloh Family & Friends Day
DESCRIPTION:SHILOH FAMILY & FRIENDS DAY \nSunday\, July 26\, 2026 \n9:30 AM Worship Service \nGuest Speaker:  Pastor Israel Lee\, West Point\, MS \nPlease bring your family and friends out to this wonderful occasion. \nJoin us for a family PICNIC on the back lawn immediately following worship service!
URL:https://www.shilohmbc.net/event/shiloh-family-friends-day-3/
LOCATION:Shiloh MBC\, 501 West Lawson Avenue\, St. Paul\, MN\, 55117\, United States
CATEGORIES:Family & Friends
END:VEVENT
END:VCALENDAR